BEGIN:VCALENDAR
PRODID:NingEventWidget-v1
VERSION:2.0
METHOD:PUBLISH
BEGIN:VTIMEZONE
TZID:Pacific/Midway
X-LIC-LOCATION:Pacific/Midway
BEGIN:STANDARD
TZOFFSETFROM:-1100
TZOFFSETTO:-1100
TZNAME:SST
DTSTART:19700101T000000
END:STANDARD
END:VTIMEZONE
BEGIN:VEVENT
UID:5072275:Event:705628
DTSTAMP:20260424T140517Z
SUMMARY:Car, Truck and Motorcycle Show, Gainsville, GA
DESCRIPTION:Come on down to 896 Main Street Gainsville, GA for a Car ,
  Motorcycle, Truck Show and Street Festival!  Live Music and Worlds B
 est BBQ.  Kid's Corner and Silent Auction.  $15 to Register a Vehicl
 e , Free to Look!  Trophy  and Plaques Awarded! All for Charity for 
 Young Adults with Disabilities that are often Overlooked by our Commun
 ity!\n\nFor more information visit https://www.southeastwheelsevents.c
 om/events/car-truck-and-motorcycle-show-gainsville-ga
DTSTART;TZID=Pacific/Midway:20131019T080000
DTEND;TZID=Pacific/Midway:20131019T140000
CATEGORIES:street, festival, fundraiser
LOCATION:896 Main Street Gainsville, GA
WEBSITE:http://www.Randyandfriends.org
URL:http://www.Randyandfriends.org
CONTACT:678-859-5604
ORGANIZER;CN="Laura Elrod":https://www.southeastwheelsevents.com/profi
 le/LauraElrod
ATTACH;FMTTYPE="image/jpeg":
ATTENDEE;ROLE=REQ-PARTICIPANT;PARTSTAT=ACCEPTED;RSVP=TRUE;CN="Laura El
 rod":https://www.southeastwheelsevents.com/profile/LauraElrod
END:VEVENT
END:VCALENDAR
