BEGIN:VCALENDAR
PRODID:NingEventWidget-v1
VERSION:2.0
METHOD:PUBLISH
BEGIN:VTIMEZONE
TZID:Pacific/Midway
X-LIC-LOCATION:Pacific/Midway
BEGIN:STANDARD
TZOFFSETFROM:-1100
TZOFFSETTO:-1100
TZNAME:SST
DTSTART:19700101T000000
END:STANDARD
END:VTIMEZONE
BEGIN:VEVENT
UID:5072275:Event:541200
DTSTAMP:20260423T142147Z
SUMMARY:Car, truck, Tractor Show Pine Ridge Day Camp -Somerville, AL
DESCRIPTION:Pine Ridge Cruise-In for Special People\nGrand Prize, cash
  prizes, door prizes\nFamily Fun, carnival games, out door activities,
  canoeing, zip line, train rides $5 wristband required for ages 6 and 
 up.\n$20 for first car , $15 for each additional car\nRegistration 8am
 -12pm\n\n\n\nFor more information visit https://www.southeastwheelseve
 nts.com/events/car-truck-tractor-show-pine-ridge-day-camp
DTSTART;TZID=Pacific/Midway:20150718T090000
DTEND;TZID=Pacific/Midway:20150718T150000
CATEGORIES:car, show
LOCATION:Pine Ridge Day Camp
WEBSITE:http://www.pineridgedaycamp.org
URL:http://www.pineridgedaycamp.org
CONTACT:256-778-9999
ORGANIZER:Dylan Jackson
ATTACH;FMTTYPE="image/jpeg":http://storage.ning.com/topology/rest/1.0/
 file/get/967618530?profile=original
ATTENDEE;ROLE=REQ-PARTICIPANT;PARTSTAT=ACCEPTED;RSVP=TRUE;CN="Lori Wil
 son":https://www.southeastwheelsevents.com/profile/LoriWilson
END:VEVENT
END:VCALENDAR
