BEGIN:VCALENDAR
PRODID:NingEventWidget-v1
VERSION:2.0
METHOD:PUBLISH
BEGIN:VTIMEZONE
TZID:Pacific/Midway
X-LIC-LOCATION:Pacific/Midway
BEGIN:STANDARD
TZOFFSETFROM:-1100
TZOFFSETTO:-1100
TZNAME:SST
DTSTART:19700101T000000
END:STANDARD
END:VTIMEZONE
BEGIN:VEVENT
UID:5072275:Event:1077337
DTSTAMP:20260423T053045Z
SUMMARY:Carlisle Chevrolet Nationals
DESCRIPTION:Home to a diverse group of General Motors vehicles, from v
 intage muscle to the modern 5th Generation Camaro, this is the place t
 o be each June. Organized by year, make and model, the National Parts 
 Depot showfield is home to a wide array of classic and modern General 
 Motors products. Buckle up for autocross action, indoor displays of co
 ncepts, customs, performance and historic vehicles, industry guests, a
 ctivities for the kids and special prizes throughout the weekend. You 
 will also find an unbelievable variety of vendors, an all-General Moto
 rs car corral and the Manufacturers Midway vending area.\n\nFor more i
 nformation visit https://www.southeastwheelsevents.com/events/carlisle
 -chevrolet-nationals
DTSTART;TZID=Pacific/Midway:20180622T070000
DTEND;TZID=Pacific/Midway:20180624T120000
CATEGORIES:carshow, swapmeet
LOCATION:Carlisle Fairgrounds
WEBSITE:http://www.carlisleevents.com/carlisle-events/carlisle-gm-nati
 onals/default.aspx
URL:http://www.carlisleevents.com/carlisle-events/carlisle-gm-national
 s/default.aspx
CONTACT:7172437855
ORGANIZER:Carlisle Events
ATTACH;FMTTYPE="image/jpeg":http://storage.ning.com/topology/rest/1.0/
 file/get/967762658?profile=original
ATTENDEE;ROLE=REQ-PARTICIPANT;PARTSTAT=ACCEPTED;RSVP=TRUE;CN="Mike Gar
 land":https://www.southeastwheelsevents.com/profile/MikeGarland
END:VEVENT
END:VCALENDAR
