BEGIN:VCALENDAR
PRODID:NingEventWidget-v1
VERSION:2.0
METHOD:PUBLISH
BEGIN:VTIMEZONE
TZID:Pacific/Midway
X-LIC-LOCATION:Pacific/Midway
BEGIN:STANDARD
TZOFFSETFROM:-1100
TZOFFSETTO:-1100
TZNAME:SST
DTSTART:19700101T000000
END:STANDARD
END:VTIMEZONE
BEGIN:VEVENT
UID:5072275:Event:949455
DTSTAMP:20260419T081732Z
SUMMARY:Carlisle's Fall Florida AutoFest -Lakeland, FL
DESCRIPTION:\r\nFall Florida AutoFest – Bigger is indeed better! Fal
 l Florida AutoFest takes place at its all new and ultra spacious facil
 ity, the SUN ‘n FUN complex in Lakeland, Florida. By coming to Lakel
 and and Fall Florida AutoFest, you’re not just coming to a car show 
 or automotive themed weekend, you’re coming to an event that is suit
 able for enthusiasts of all ages. It doesn’t matter if you’re the 
 most die-hard car guy (or girl) or you’re a family looking for a day
  out of the house, Fall Florida AutoFest has it all! The weekend plays
  host to thousands of collector and classic automotive enthusiasts who
  will come to SUN ‘n FUN for one of the largest automotive swap meet
 s in the region. In addition, there are classic cars and trucks availa
 ble within the car corral or enjoy a thrilling collector car auction p
 resented by Carlisle Auctions. Not only is there multiple forms of aut
 omobilia for sale, you can check out or be part of a classic car show.
  Throughout the weekend, hundreds of classics, spanning generations of
  production, will be on display with awards presented at the conclusio
 n of the event. In addition, there’s a great array of food, games, d
 isplays, guests and more. Plus, Carlisle Events will tip its cap to wh
 at SUN ‘n FUN is all about, aeronautical excitement. The onsite muse
 um will be open during the event, there will be helicopter rides, a fl
 y over and more air themed fun. Each year will bring something differe
 nt, so be sure to get involved today!\r\n\r\n\r\nVendor Registration P
 ackage\r\nView Map\r\nCarlisle Auctions\r\n\r\n \r\n\n\nFor more info
 rmation visit https://www.southeastwheelsevents.com/events/carlisle-s-
 fall-florida-autofest-lakeland-fl
DTSTART;TZID=Pacific/Midway:20171109T000000
DTEND;TZID=Pacific/Midway:20171112T235900
CATEGORIES:swap, meet, car, corral, auto, auction
LOCATION:SUN 'n FUN Complex - Lakeland Linder Airport
WEBSITE:http://www.carlisleevents.com/carlisle-events/fall-florida-aut
 ofest/default.aspx
URL:http://www.carlisleevents.com/carlisle-events/fall-florida-autofes
 t/default.aspx
CONTACT:7172437855
ORGANIZER:Carlisle Events
ATTACH;FMTTYPE="image/jpeg":http://storage.ning.com/topology/rest/1.0/
 file/get/967650039?profile=original
ATTENDEE;ROLE=REQ-PARTICIPANT;PARTSTAT=ACCEPTED;RSVP=TRUE;CN="Chuck Aa
 ron":https://www.southeastwheelsevents.com/profile/ChuckAaron
END:VEVENT
END:VCALENDAR
