BEGIN:VCALENDAR
PRODID:NingEventWidget-v1
VERSION:2.0
METHOD:PUBLISH
BEGIN:VTIMEZONE
TZID:Pacific/Midway
X-LIC-LOCATION:Pacific/Midway
BEGIN:STANDARD
TZOFFSETFROM:-1100
TZOFFSETTO:-1100
TZNAME:SST
DTSTART:19700101T000000
END:STANDARD
END:VTIMEZONE
BEGIN:VEVENT
UID:5072275:Event:642598
DTSTAMP:20260423T143902Z
SUMMARY:CARLOS SANDERS ESTATE AUCTION -COMMERCE, GA
DESCRIPTION:WE ARE ALL SAD FOR THE PASSING OF CARLOS SANDERS OF ATLANT
 A STREET RODS. WE WILL HAVE ABSOLUTE AUCTION ON SUNDAY MAY 5TH  11AM 
 ON LOCATION IN COMMERCE GA. THE AUCTION WILL INCLUDE ALL UNRESTORED CA
 RS & TRUCKS, COMPLETE WORKING BODY AND FABRICATION SHOP WITH ALL EQUIP
 MENT INCLUDING ALL POWER TOOLS, HAND TOOLS , PARTS, NEW FRAMES AND ENG
 INES, THOUSAND OF PARTS, MANY NEW IN BOX, CARS, TRUCKS, FENDERS, HOODS
 ,AND SO MUCH MORE. THE PREVIEW WILL BE SATURDAY MAY 4TH FROM 10-6 LOOK
  AT OUR WEB SITE WWW.FSAGALLERY.COM FOR MORE INFO AND PHOTOS\n\nFor mo
 re information visit https://www.southeastwheelsevents.com/events/carl
 os-sanders-estate-auction-commerce-georgia
DTSTART;TZID=Pacific/Midway:20130505T110000
DTEND;TZID=Pacific/Midway:20130505T180000
CATEGORIES:carlos, sanders, absolute, estate, auction
LOCATION:ATLANTA STREET RODS SHOP COMMERCE
WEBSITE:http://WWW.FSAGALLERY.COM
URL:http://WWW.FSAGALLERY.COM
CONTACT:404-876-1048
ORGANIZER;CN="Steve White":https://www.southeastwheelsevents.com/profi
 le/SteveWhite
ATTACH;FMTTYPE="image/jpeg":http://storage.ning.com/topology/rest/1.0/
 file/get/967639163?profile=original
ATTENDEE;ROLE=REQ-PARTICIPANT;PARTSTAT=ACCEPTED;RSVP=TRUE;CN="Snitch A
 dams":https://www.southeastwheelsevents.com/profile/SnitchAdams
ATTENDEE;ROLE=REQ-PARTICIPANT;PARTSTAT=ACCEPTED;RSVP=TRUE;CN="Steve Wh
 ite":https://www.southeastwheelsevents.com/profile/SteveWhite
END:VEVENT
END:VCALENDAR
