BEGIN:VCALENDAR
PRODID:NingEventWidget-v1
VERSION:2.0
METHOD:PUBLISH
BEGIN:VTIMEZONE
TZID:Pacific/Midway
X-LIC-LOCATION:Pacific/Midway
BEGIN:STANDARD
TZOFFSETFROM:-1100
TZOFFSETTO:-1100
TZNAME:SST
DTSTART:19700101T000000
END:STANDARD
END:VTIMEZONE
BEGIN:VEVENT
UID:5072275:Event:1025080
DTSTAMP:20260423T211346Z
SUMMARY:CarMax Auctions at Richmond
DESCRIPTION:CarMax Auctions will be held at CarMax Auto Superstore 110
 90 West Broad Street Richmond VA. Our auctions are conducted by profes
 sional auctioneers and are held in numerous CarMax locations across th
 e country. Event starts at 2:00 pm. and end time may change.\n\nFor mo
 re information visit https://www.southeastwheelsevents.com/events/carm
 ax-auctions-at-richmond
DTSTART;TZID=Pacific/Midway:20161213T140000
DTEND;TZID=Pacific/Midway:20161213T180000
CATEGORIES:business, "auction/swap"
LOCATION:CarMax Auto Superstore
WEBSITE:http://www.carmaxauctions.com/auctionlocation.aspx/locationinf
 o/7291
URL:http://www.carmaxauctions.com/auctionlocation.aspx/locationinfo/72
 91
CONTACT:
ORGANIZER:CarMax Auctions
ATTACH;FMTTYPE="image/jpeg":http://storage.ning.com/topology/rest/1.0/
 file/get/967716138?profile=original
ATTENDEE;ROLE=REQ-PARTICIPANT;PARTSTAT=ACCEPTED;RSVP=TRUE;CN="Chris go
 sney":https://www.southeastwheelsevents.com/profile/Chrisgosney
END:VEVENT
END:VCALENDAR
