BEGIN:VCALENDAR
PRODID:NingEventWidget-v1
VERSION:2.0
METHOD:PUBLISH
BEGIN:VTIMEZONE
TZID:Pacific/Midway
X-LIC-LOCATION:Pacific/Midway
BEGIN:STANDARD
TZOFFSETFROM:-1100
TZOFFSETTO:-1100
TZNAME:SST
DTSTART:19700101T000000
END:STANDARD
END:VTIMEZONE
BEGIN:VEVENT
UID:5072275:Event:1026327
DTSTAMP:20260424T133639Z
SUMMARY:Carolina Auto Auction
DESCRIPTION:Auto Auction will be held at Carolina Auto Auction, 140 We
 bb Road Williamston, South Carolina 29697 United States. Carolina Auto
  Auction is situated in Anderson, South Carolina, midway between Atlan
 ta and Charlotte via Interstate 85, and Asheville and Columbia via Int
 erstate 26. We are conveniently located just thirty miles from Greenvi
 lle-Spartanburg International Airport (GSP). Event starts at 10:00 am.
  and end time may change.\n\nFor more information visit https://www.so
 utheastwheelsevents.com/events/carolina-auto-auction-1
DTSTART;TZID=Pacific/Midway:20161228T100000
DTEND;TZID=Pacific/Midway:20161228T140000
CATEGORIES:business, "auction/swap"
LOCATION:Carolina Auto Auction
WEBSITE:http://www.carolinaautoauction.com/index.php/event/
URL:http://www.carolinaautoauction.com/index.php/event/
CONTACT:
ORGANIZER:Carolina Auto Auction
ATTACH;FMTTYPE="image/jpeg":http://storage.ning.com/topology/rest/1.0/
 file/get/967719393?profile=original
ATTENDEE;ROLE=REQ-PARTICIPANT;PARTSTAT=ACCEPTED;RSVP=TRUE;CN="Chris go
 sney":https://www.southeastwheelsevents.com/profile/Chrisgosney
END:VEVENT
END:VCALENDAR
