BEGIN:VCALENDAR
PRODID:NingEventWidget-v1
VERSION:2.0
METHOD:PUBLISH
BEGIN:VTIMEZONE
TZID:Pacific/Midway
X-LIC-LOCATION:Pacific/Midway
BEGIN:STANDARD
TZOFFSETFROM:-1100
TZOFFSETTO:-1100
TZNAME:SST
DTSTART:19700101T000000
END:STANDARD
END:VTIMEZONE
BEGIN:VEVENT
UID:5072275:Event:28972
DTSTAMP:20260424T123553Z
SUMMARY:CAROLINA CLASSIC CAR CLUB
DESCRIPTION:CRUZ-IN BENIFIT FOR KELSEY JONES AND HER FAMILY\nMORE INFO
 . CALL 864/590/7405\n\nFor more information visit https://www.southeas
 twheelsevents.com/events/carolina-classic-car-club-1
DTSTART;TZID=Pacific/Midway:20100618T180000
DTEND;TZID=Pacific/Midway:20100618T210000
CATEGORIES:benifit, cruz-in
LOCATION:BEACON DRIVE-IN SPARTANBURG,SC  JOHN WHITE SR BLVD
WEBSITE:
URL:
CONTACT:
ORGANIZER;CN="pat switzer":https://www.southeastwheelsevents.com/profi
 le/patswitzer
ATTACH;FMTTYPE="image/jpeg":
ATTENDEE;ROLE=REQ-PARTICIPANT;PARTSTAT=ACCEPTED;RSVP=TRUE;CN=AAWilson:
 https://www.southeastwheelsevents.com/profile/AAWilson
ATTENDEE;ROLE=REQ-PARTICIPANT;PARTSTAT=ACCEPTED;RSVP=TRUE;CN="pat swit
 zer":https://www.southeastwheelsevents.com/profile/patswitzer
END:VEVENT
END:VCALENDAR
