BEGIN:VCALENDAR
PRODID:NingEventWidget-v1
VERSION:2.0
METHOD:PUBLISH
BEGIN:VTIMEZONE
TZID:Pacific/Midway
X-LIC-LOCATION:Pacific/Midway
BEGIN:STANDARD
TZOFFSETFROM:-1100
TZOFFSETTO:-1100
TZNAME:SST
DTSTART:19700101T000000
END:STANDARD
END:VTIMEZONE
BEGIN:VEVENT
UID:5072275:Event:896304
DTSTAMP:20260420T183911Z
SUMMARY:Carolina Classic Motor Car Club Show  Collumbia, SC
DESCRIPTION:Antique & Classic Cars/Trucks  25 Years Old or Older  19
 00-1990. Registration $15.00 Reg. 9:00 AM-NOON  \n\nFor more informat
 ion visit https://www.southeastwheelsevents.com/events/carolina-classi
 c-motor-car-club-show-collumbia-sc
DTSTART;TZID=Pacific/Midway:20160604T090000
DTEND;TZID=Pacific/Midway:20160604T160000
CATEGORIES:car, "&", truck, show
LOCATION:Columbia, SC @  ACE Glass Company
WEBSITE:
URL:
CONTACT:803-786-0671
ORGANIZER:Allen Parks
ATTACH;FMTTYPE="image/jpeg":http://storage.ning.com/topology/rest/1.0/
 file/get/967686955?profile=original
ATTENDEE;ROLE=REQ-PARTICIPANT;PARTSTAT=ACCEPTED;RSVP=TRUE;CN="harold t
  phillips":https://www.southeastwheelsevents.com/profile/haroldtphilli
 ps
END:VEVENT
END:VCALENDAR
