BEGIN:VCALENDAR
PRODID:NingEventWidget-v1
VERSION:2.0
METHOD:PUBLISH
BEGIN:VTIMEZONE
TZID:Pacific/Midway
X-LIC-LOCATION:Pacific/Midway
BEGIN:STANDARD
TZOFFSETFROM:-1100
TZOFFSETTO:-1100
TZNAME:SST
DTSTART:19700101T000000
END:STANDARD
END:VTIMEZONE
BEGIN:VEVENT
UID:5072275:Event:473533
DTSTAMP:20260423T020336Z
SUMMARY:Carolina Collector Auto Fest -Raleigh, NC
DESCRIPTION:25th Annual Carolina Collector Auto Fest - NC State Fairgr
 ounds, Raleigh, NC - over 150,000 sq. ft. indoor Swap Meet, Car Corral
  & Car Show - Saturday Show - Classics Only (pre-1974) and Open Show o
 n Sunday inside the historic Dorton Arena.  50/50, door prizes, $200.
 00 cash for club with most entries (min, 10), over 100 trophies & plaq
 ues - pre-registered $20.00 (includes express entry on show day) - $25
 .00 day of show- Includes 2 general admissions - Admission is only $10
 .00 for adults (under 10 free) - Friday is Senior/Military Day - only 
 $5.00.\n\nFor more information visit https://www.southeastwheelsevents
 .com/events/carolina-collector-auto-fest-2
DTSTART;TZID=Pacific/Midway:20120309T000000
DTEND;TZID=Pacific/Midway:20120311T235900
CATEGORIES:swap, "/", show, sell
LOCATION:NC State Fairgrounds
WEBSITE:http://www.carolinacollectorautofest.com
URL:http://www.carolinacollectorautofest.com
CONTACT:336-972-4362
ORGANIZER;CN="Randy Myers":https://www.southeastwheelsevents.com/profi
 le/RandyMyers
ATTACH;FMTTYPE="image/jpeg":http://storage.ning.com/topology/rest/1.0/
 file/get/967603636?profile=original
ATTENDEE;ROLE=REQ-PARTICIPANT;PARTSTAT=ACCEPTED;RSVP=TRUE;CN="Randy My
 ers":https://www.southeastwheelsevents.com/profile/RandyMyers
END:VEVENT
END:VCALENDAR
