BEGIN:VCALENDAR
PRODID:NingEventWidget-v1
VERSION:2.0
METHOD:PUBLISH
BEGIN:VTIMEZONE
TZID:Pacific/Midway
X-LIC-LOCATION:Pacific/Midway
BEGIN:STANDARD
TZOFFSETFROM:-1100
TZOFFSETTO:-1100
TZNAME:SST
DTSTART:19700101T000000
END:STANDARD
END:VTIMEZONE
BEGIN:VEVENT
UID:5072275:Event:883096
DTSTAMP:20260424T055630Z
SUMMARY:Carolina Customs Spring Car/ Truck Show -Florence, SC
DESCRIPTION:We will have a class for everyone. Music, food, giveaways 
 and vendors. Please come and join us for this great event.\n\nFor more
  information visit https://www.southeastwheelsevents.com/events/caroli
 na-customs-palmettostangs-car-truck-show
DTSTART;TZID=Pacific/Midway:20160430T080000
DTEND;TZID=Pacific/Midway:20160430T150000
CATEGORIES:fundraiser, "sc autism society"
LOCATION:Carolina Customs Trucks Accessories
WEBSITE:
URL:
CONTACT:Nan 843-230-3444
ORGANIZER:Carolina Customs
ATTACH;FMTTYPE="image/jpeg":http://storage.ning.com/topology/rest/1.0/
 file/get/967687201?profile=original
ATTENDEE;ROLE=REQ-PARTICIPANT;PARTSTAT=ACCEPTED;RSVP=TRUE;CN="Chuck Aa
 ron":https://www.southeastwheelsevents.com/profile/ChuckAaron
ATTENDEE;ROLE=REQ-PARTICIPANT;PARTSTAT=ACCEPTED;RSVP=TRUE;CN=nan:https
 ://www.southeastwheelsevents.com/profile/nan
END:VEVENT
END:VCALENDAR
