BEGIN:VCALENDAR
PRODID:NingEventWidget-v1
VERSION:2.0
METHOD:PUBLISH
BEGIN:VTIMEZONE
TZID:Pacific/Midway
X-LIC-LOCATION:Pacific/Midway
BEGIN:STANDARD
TZOFFSETFROM:-1100
TZOFFSETTO:-1100
TZNAME:SST
DTSTART:19700101T000000
END:STANDARD
END:VTIMEZONE
BEGIN:VEVENT
UID:5072275:Event:1096249
DTSTAMP:20260423T052451Z
SUMMARY:Carolina Shakedown -Anderson, SC
DESCRIPTION:\n\nFor more information visit https://www.southeastwheels
 events.com/events/carolina-shakedown-anderson-sc
DTSTART;TZID=Pacific/Midway:20180922T000000
DTEND;TZID=Pacific/Midway:20180922T235900
CATEGORIES:hot, rod, rat, mc, show, festival
LOCATION:Timms Harley-Davidson
WEBSITE:http://www.garage71.net
URL:http://www.garage71.net
CONTACT:864-224-1531
ORGANIZER:Grease Inc.
ATTACH;FMTTYPE="image/jpeg":http://storage.ning.com/topology/rest/1.0/
 file/get/967790716?profile=original
ATTENDEE;ROLE=REQ-PARTICIPANT;PARTSTAT=ACCEPTED;RSVP=TRUE;CN="Chuck Aa
 ron":https://www.southeastwheelsevents.com/profile/ChuckAaron886
END:VEVENT
END:VCALENDAR
