BEGIN:VCALENDAR
PRODID:NingEventWidget-v1
VERSION:2.0
METHOD:PUBLISH
BEGIN:VTIMEZONE
TZID:Pacific/Midway
X-LIC-LOCATION:Pacific/Midway
BEGIN:STANDARD
TZOFFSETFROM:-1100
TZOFFSETTO:-1100
TZNAME:SST
DTSTART:19700101T000000
END:STANDARD
END:VTIMEZONE
BEGIN:VEVENT
UID:5072275:Event:553729
DTSTAMP:20260421T232307Z
SUMMARY:Carolina Sprints Return to friendship Speedway
DESCRIPTION:“The Professor” Gary Troutman and the rest of the Caro
 lina RaceSaver Sprint Series return to the Friendship Speedway on Satu
 rday night, September 1st for the final appearance of the season at th
 e Elkin, NC facility.  Back on July 21st, Ray Evernham muscled his wa
 y by Jake McLain on the final lap of the feature to win the 25 lap fea
 ture.  That move has motivated McLain who has won the last two events
  out and is looking forward to returning to Friendship Speedway to mak
 e up for the loss and record his 4th feature win of the season.  But 
 he has plenty of company also looking for the win at the super fast fa
 cility.  In addition to The Professor looking to find his way back to
  victory lane,   Mike Leraas and Johnny Petrozelle are also looking 
 to end McLain’s run and have shown that they are more than capable o
 f taking the top spot.  Make your Labor Day weekend racing plans now 
 to join us on Saturday evening, Sep 1st as the Carolina Sprints are on
 ly a part of a huge racing program a the Friendship Speedway.  For co
 mplete event information, please visit the track’s website at Friend
 shipSpeedway.net.  For more information on the series including info 
 on how you can now get involved in the King of Carolina Shootout, visi
 t us at www.carolinasprints.com.\n\nFor more information visit https:/
 /www.southeastwheelsevents.com/events/carolina-sprints-return-to-frien
 dship-speedway
DTSTART;TZID=Pacific/Midway:20120901T180000
DTEND;TZID=Pacific/Midway:20120901T230000
CATEGORIES:race, "(dirt", "track-oval)"
LOCATION:Friendship Speedway
WEBSITE:http://www.carolinasprints.com
URL:http://www.carolinasprints.com
CONTACT:704-995-3628
ORGANIZER;CN="Paul Pittman":https://www.southeastwheelsevents.com/prof
 ile/PaulPittman
ATTACH;FMTTYPE="image/jpeg":http://storage.ning.com/topology/rest/1.0/
 file/get/967624687?profile=original
ATTENDEE;ROLE=REQ-PARTICIPANT;PARTSTAT=ACCEPTED;RSVP=TRUE;CN="Paul Pit
 tman":https://www.southeastwheelsevents.com/profile/PaulPittman
END:VEVENT
END:VCALENDAR
