BEGIN:VCALENDAR
PRODID:NingEventWidget-v1
VERSION:2.0
METHOD:PUBLISH
BEGIN:VTIMEZONE
TZID:Pacific/Midway
X-LIC-LOCATION:Pacific/Midway
BEGIN:STANDARD
TZOFFSETFROM:-1100
TZOFFSETTO:-1100
TZNAME:SST
DTSTART:19700101T000000
END:STANDARD
END:VTIMEZONE
BEGIN:VEVENT
UID:5072275:Event:1019056
DTSTAMP:20260424T122145Z
SUMMARY:Carolina Swap Meet & Car & Truck Show -Kannapolis, NC
DESCRIPTION:Carolina Swap Meet & Car & Truck Show -Kannapolis, NC\n\nF
 or more information visit https://www.southeastwheelsevents.com/events
 /carolina-swap-meet-car-truck-show-kannapolis-nc
DTSTART;TZID=Pacific/Midway:20171111T070000
DTEND;TZID=Pacific/Midway:20171111T130000
CATEGORIES:swap, meet, car, show
LOCATION:CMC-Northeast Kannapolis Intimidator Stadium
WEBSITE:
URL:
CONTACT:carolinaswapandshow@yahoo.com
ORGANIZER:Carolina Swap Meet &amp; Car &amp; Truck Show
ATTACH;FMTTYPE="image/jpeg":http://storage.ning.com/topology/rest/1.0/
 file/get/967719562?profile=original
ATTENDEE;ROLE=REQ-PARTICIPANT;PARTSTAT=ACCEPTED;RSVP=TRUE;CN="Chuck Aa
 ron":https://www.southeastwheelsevents.com/profile/ChuckAaron886
END:VEVENT
END:VCALENDAR
