BEGIN:VCALENDAR
PRODID:NingEventWidget-v1
VERSION:2.0
METHOD:PUBLISH
BEGIN:VTIMEZONE
TZID:Pacific/Midway
X-LIC-LOCATION:Pacific/Midway
BEGIN:STANDARD
TZOFFSETFROM:-1100
TZOFFSETTO:-1100
TZNAME:SST
DTSTART:19700101T000000
END:STANDARD
END:VTIMEZONE
BEGIN:VEVENT
UID:5072275:Event:256912
DTSTAMP:20260420T132124Z
SUMMARY:Cars 4 Canines -Alpharetta, GA
DESCRIPTION:If you plan to attend, I need to hear from you no later th
 an Thursday, May 26th so the restaurant can be prepared. You can bring
  the $25 donation to the event. Make checks payable to C.A.N.  Call w
 ith questions: Jim Mitchell, 770 883 2316.  Please read details below
 . Please bring registration information to the event.\n \nDid someone
  say “cars”?  Did someone say “dogs”?  Come join us for some
  fun with both at the 1st annual “Cars For Canines” fund raiser Ma
 y 29th from 12 noon til 4pm in the parking lot at Champps Americana Re
 staurant,  , 7955 North Point Parkway, Alpharetta Georgia.    MBCA
  Peachtree is pleased to help further the mission of C.A.N. by support
 ing and helping to organize this event. \nThe fun and festivities wil
 l include a car show (in secured parking)  with all makes and models 
 welcome, dog adoptions, a silent auction, great food and more! This wi
 ll be a terrific way to spend an afternoon with family, friends and fe
 llow car enthusiasts while supporting a worthy cause!\nTo enter your s
 pecial car, there will be a $25 registration fee required.  All car s
 how entrants will receive lunch for two at Champps and also a Cars 4 C
 anines T shirt.  To enter your, car please see the registration form 
 in this newsletter. For car show questions please contact Jim Mitchell
  at 770 883 2316 or at jrs190sl@yahoo.com.  If you have something of 
 some value that you would like to donate to the silent auction, please
  also contact Jim Mitchell.\nCARS FOR CANINES REGISTRATION\n     
                  SATURDAY, MAY 29, 2011, 12 noon to 4p
 m\nCHAMPPS AMERICANA RESTAURANT\n     7955 NORTH POINT PARKWAY\n 
         ALPHARETTA, GEORGIA\n \nMAKE ______________MODEL______
 _________YEAR_____________\n \nSPECIAL FEATURES OR EQUIPMENT?________
 ______________________________________________\n \n__________________
 _____________________________________________________________________\
 n \nOWNER____________________________________________________________
 ____________________\n \nADDRESS_____________________________________
 __________________________________________\n \nPHONE_________________
 ________________E-MAIL__________________________________________\n \n
 T SHIRT SIZE( one per entry, s, m, l, xl)_____________________________
 ___\n \nENTRY FEE FOR ALL CARS WILL BE A $25.00 DONATION TO THE\nCANI
 NE ADOPTION NETWORK, SECOND CAR WILL BE $15.00.\n \nENTRY TO THE EVEN
 T WILL BE FREE TO THE PUBLIC.  EACH SHOW ENTRY WILL RECEIVE LUNCH  F
 OR TWO PEOPLE AT CHAMPPS AND AN EVENT T SHIRT.  ALL PROCEEDS BENEFIT 
 THE CANINE ADOPTION NETWORK.\nPLEASE SEND COMPLETED REGISTRATION FORM 
 AND A CHECK FOR $25.00 MADE OUT TO CANINE ADOPTION NETWORK.  MAIL CHE
 CK AND FORM TO:\n \nJim Mitchell\n135 Hopewell Grove Drive,\nAlpharet
 ta, GA 30004\n \nANY QUESTIONS PLEASE FEEL FREE TO CONTACT JIM MITCHE
 LL AT 770 883 2316 or jrs190sl@yahoo.com\n\nFor more information visit
  https://www.southeastwheelsevents.com/events/cars-4-canines-alpharett
 a-ga
DTSTART;TZID=Pacific/Midway:20110529T120000
DTEND;TZID=Pacific/Midway:20110529T160000
CATEGORIES:fund, raiser, all, proceeds, benefit, "canine adoption netw
 ork"
LOCATION:Champps Restaurant
WEBSITE:http://www.champps.com/default.aspx?tabid=274
URL:http://www.champps.com/default.aspx?tabid=274
CONTACT:770 642 1933
ORGANIZER;CN="Jim Mitchell":https://www.southeastwheelsevents.com/prof
 ile/JimMitchell
ATTACH;FMTTYPE="image/jpeg":
ATTENDEE;ROLE=REQ-PARTICIPANT;PARTSTAT=ACCEPTED;RSVP=TRUE;CN="Jim Mitc
 hell":https://www.southeastwheelsevents.com/profile/JimMitchell
END:VEVENT
END:VCALENDAR
