BEGIN:VCALENDAR
PRODID:NingEventWidget-v1
VERSION:2.0
METHOD:PUBLISH
BEGIN:VTIMEZONE
TZID:Pacific/Midway
X-LIC-LOCATION:Pacific/Midway
BEGIN:STANDARD
TZOFFSETFROM:-1100
TZOFFSETTO:-1100
TZNAME:SST
DTSTART:19700101T000000
END:STANDARD
END:VTIMEZONE
BEGIN:VEVENT
UID:5072275:Event:1199844
DTSTAMP:20260420T211925Z
SUMMARY:Cars and Costumes, Brookhaven, GA
DESCRIPTION:One the \"Fun Scale\" of 1 to 10, this event ranks a solid
  \"20\"!!!\nWe are holding our 7th Annual Open Car Show and Halloween 
 Costume Contest at the Pink Pony in Brookhaven, GA.\nIn addition to ou
 r Best Modern, Best Classic and Top 15 Popular Choice Awards for the s
 how cars, we will have a Halloween Costume Contest with CASH Prizes! $
 200 for the Best Male, Female, Couple and Decorated Car!\nWe will also
  have Burgers, Dogs and Cold Beverages available and always MORE!\nMak
 e your plans to attend, and be \"Creative\" with the costumes!\nEntry 
 Fee is a donation to help Treat and Cure Breast Cancer!\n\nFor more in
 formation visit https://www.southeastwheelsevents.com/events/cars-amp-
 costumes-brookhaven-ga-1
DTSTART;TZID=Pacific/Midway:20201024T120000
DTEND;TZID=Pacific/Midway:20201024T160000
CATEGORIES:car, show, costume, contest, charity, fundraier
LOCATION:The Pink Pony
WEBSITE:http://www.GeorgiaCoolCruisers.org
URL:http://www.GeorgiaCoolCruisers.org
CONTACT:404-732-6842
ORGANIZER;CN="Rick Ellis":https://www.southeastwheelsevents.com/profil
 e/RickEllis
ATTACH;FMTTYPE="image/jpeg":https://storage.ning.com/topology/rest/1.0
 /file/get/1244941147?profile=original
ATTENDEE;ROLE=REQ-PARTICIPANT;PARTSTAT=ACCEPTED;RSVP=TRUE;CN="Rick Ell
 is":https://www.southeastwheelsevents.com/profile/RickEllis
ATTENDEE;ROLE=REQ-PARTICIPANT;PARTSTAT=TENTATIVE;RSVP=TRUE;CN="JP Brad
 y":https://www.southeastwheelsevents.com/profile/jpbrady
ATTENDEE;ROLE=REQ-PARTICIPANT;PARTSTAT=TENTATIVE;RSVP=TRUE;CN="Bill Da
 vis":https://www.southeastwheelsevents.com/profile/BillDavis353
END:VEVENT
END:VCALENDAR
