BEGIN:VCALENDAR
PRODID:NingEventWidget-v1
VERSION:2.0
METHOD:PUBLISH
BEGIN:VTIMEZONE
TZID:Pacific/Midway
X-LIC-LOCATION:Pacific/Midway
BEGIN:STANDARD
TZOFFSETFROM:-1100
TZOFFSETTO:-1100
TZNAME:SST
DTSTART:19700101T000000
END:STANDARD
END:VTIMEZONE
BEGIN:VEVENT
UID:5072275:Event:1226254
DTSTAMP:20260423T101517Z
SUMMARY:Cars and Courage: Celebrating First Responders
DESCRIPTION:\n\nFor more information visit https://www.southeastwheels
 events.com/events/cars-amp-courage-celebrating-first-responders
DTSTART;TZID=Pacific/Midway:20210911T110000
DTEND;TZID=Pacific/Midway:20210911T150000
CATEGORIES:fundraiser, open, car, show
LOCATION:Summit Racing Equiipment
WEBSITE:https://www.summitracing.com/
URL:https://www.summitracing.com/
CONTACT:404-822-7768
ORGANIZER:North Georgia Mopar Club
ATTACH;FMTTYPE="image/jpeg":https://storage.ning.com/topology/rest/1.0
 /file/get/9197976465?profile=original
ATTENDEE;ROLE=REQ-PARTICIPANT;PARTSTAT=ACCEPTED;RSVP=TRUE;CN="Lynn Jos
 eph":https://www.southeastwheelsevents.com/profile/LynnJoseph
ATTENDEE;ROLE=REQ-PARTICIPANT;PARTSTAT=TENTATIVE;RSVP=TRUE;CN="Jeffrey
  Rutherford":https://www.southeastwheelsevents.com/profile/JeffreyRuth
 erford866
END:VEVENT
END:VCALENDAR
