BEGIN:VCALENDAR
PRODID:NingEventWidget-v1
VERSION:2.0
METHOD:PUBLISH
BEGIN:VTIMEZONE
TZID:Pacific/Midway
X-LIC-LOCATION:Pacific/Midway
BEGIN:STANDARD
TZOFFSETFROM:-1100
TZOFFSETTO:-1100
TZNAME:SST
DTSTART:19700101T000000
END:STANDARD
END:VTIMEZONE
BEGIN:VEVENT
UID:5072275:Event:1251866
DTSTAMP:20260423T021129Z
SUMMARY:Cars n 'Q for the Cause -Atlanta, GA
DESCRIPTION:Car lovers, craft beer and barbecue fans mark your calenda
 rs for October 19, 2024, from 3 to 6 pm and join Choate Construction C
 ompany for the 14th annual Cars & ‘Q for the Cause! This award-winni
 ng car show, and party benefits the Cystic Fibrosis Foundation (CFF) a
 nd features 100+ unique cars, tasty BBQ craft beer and wine a silent a
 uction, live music and more.\r\nTo date Cars & ‘Q has raised more th
 an $3 million for the Foundation to support life—saving research and
  critical advancements in medical treatment for cystic fibrosis (CF) t
 he progressive genetic lung disease affecting close to 40000 in the U.
 S.\r\nCars & ‘Q for the Cause promises entertainment for all ages. T
 he car show boasts a variety of prize-winning automobiles from classic
  sports cars to muscle cars, exotic and rare finds, and local firetruc
 ks for the kids.\r\nTickets range from $20 to $40. Children under 8 ar
 e free. www.Carsnq.com.\r\n\n\nFor more information visit https://www.
 southeastwheelsevents.com/events/cars-amp-q-for-the-cause-5
DTSTART;TZID=Pacific/Midway:20231021T150000
DTEND;TZID=Pacific/Midway:20231021T180000
CATEGORIES:fundraiser, car, show
LOCATION:Choate Construction Company
WEBSITE:https://www.carsnq.com/
URL:https://www.carsnq.com/
CONTACT:678-892-1290
ORGANIZER;CN="Zoe Ferqueron":https://www.southeastwheelsevents.com/pro
 file/ZoeFerqueron
ATTACH;FMTTYPE="image/jpeg":https://storage.ning.com/topology/rest/1.0
 /file/get/12940519878?profile=original
ATTENDEE;ROLE=REQ-PARTICIPANT;PARTSTAT=ACCEPTED;RSVP=TRUE;CN="Zoe Ferq
 ueron":https://www.southeastwheelsevents.com/profile/ZoeFerqueron
END:VEVENT
END:VCALENDAR
