BEGIN:VCALENDAR
PRODID:NingEventWidget-v1
VERSION:2.0
METHOD:PUBLISH
BEGIN:VTIMEZONE
TZID:Pacific/Midway
X-LIC-LOCATION:Pacific/Midway
BEGIN:STANDARD
TZOFFSETFROM:-1100
TZOFFSETTO:-1100
TZNAME:SST
DTSTART:19700101T000000
END:STANDARD
END:VTIMEZONE
BEGIN:VEVENT
UID:5072275:Event:734573
DTSTAMP:20260419T053819Z
SUMMARY:Cars and Coffee (Abundant Grounds Cafe) Kennesaw
DESCRIPTION:2nd Sunday Cruise In\nAll vehicles welcome!\n830am-11am\nA
 bundant Grounds Cafe\n1600 Kennesaw Due West Rd\n(Corner of Kennesaw D
 ue West and Stilesboro)\n\nFor more information visit https://www.sout
 heastwheelsevents.com/events/cars-and-coffee-abundant-grounds-cafe-ken
 nesaw-2
DTSTART;TZID=Pacific/Midway:20140406T083000
DTEND;TZID=Pacific/Midway:20140406T110000
CATEGORIES:cruise-in
LOCATION:Abundant Grounds Cafe (Kennesaw)
WEBSITE:http://www.swapmywhip.com
URL:http://www.swapmywhip.com
CONTACT:770-639-3632
ORGANIZER;CN="Daniel Krause":https://www.southeastwheelsevents.com/pro
 file/DanielKrause
ATTACH;FMTTYPE="image/jpeg":http://storage.ning.com/topology/rest/1.0/
 file/get/967650622?profile=original
ATTENDEE;ROLE=REQ-PARTICIPANT;PARTSTAT=ACCEPTED;RSVP=TRUE;CN="Daniel K
 rause":https://www.southeastwheelsevents.com/profile/DanielKrause
END:VEVENT
END:VCALENDAR
