BEGIN:VCALENDAR
PRODID:NingEventWidget-v1
VERSION:2.0
METHOD:PUBLISH
BEGIN:VTIMEZONE
TZID:Pacific/Midway
X-LIC-LOCATION:Pacific/Midway
BEGIN:STANDARD
TZOFFSETFROM:-1100
TZOFFSETTO:-1100
TZNAME:SST
DTSTART:19700101T000000
END:STANDARD
END:VTIMEZONE
BEGIN:VEVENT
UID:5072275:Event:819375
DTSTAMP:20260423T102444Z
SUMMARY:Cars and Coffee (Abundant Grounds Cafe) -Kennesaw, GA
DESCRIPTION:3rd Saturday Cruise\nAll vehicles welcome!\n3pm-6pm\nAbund
 ant Grounds Cafe\n\nFor more information visit https://www.southeastwh
 eelsevents.com/events/cars-and-coffee-abundant-grounds-cafe-kennesaw-8
DTSTART;TZID=Pacific/Midway:20150117T150000
DTEND;TZID=Pacific/Midway:20150117T180000
CATEGORIES:cruise-in
LOCATION:Abundant Grounds Cafe (Kennesaw)
WEBSITE:http://www.swapmywhip.com
URL:http://www.swapmywhip.com
CONTACT:7706393632
ORGANIZER;CN="Daniel Krause":https://www.southeastwheelsevents.com/pro
 file/DanielKrause
ATTACH;FMTTYPE="image/jpeg":http://storage.ning.com/topology/rest/1.0/
 file/get/967667853?profile=original
ATTENDEE;ROLE=REQ-PARTICIPANT;PARTSTAT=ACCEPTED;RSVP=TRUE;CN="Daniel K
 rause":https://www.southeastwheelsevents.com/profile/DanielKrause
ATTENDEE;ROLE=REQ-PARTICIPANT;PARTSTAT=TENTATIVE;RSVP=TRUE;CN="JP Brad
 y":https://www.southeastwheelsevents.com/profile/jpbrady
END:VEVENT
END:VCALENDAR
