BEGIN:VCALENDAR
PRODID:NingEventWidget-v1
VERSION:2.0
METHOD:PUBLISH
BEGIN:VTIMEZONE
TZID:Pacific/Midway
X-LIC-LOCATION:Pacific/Midway
BEGIN:STANDARD
TZOFFSETFROM:-1100
TZOFFSETTO:-1100
TZNAME:SST
DTSTART:19700101T000000
END:STANDARD
END:VTIMEZONE
BEGIN:VEVENT
UID:5072275:Event:4356
DTSTAMP:20260423T155948Z
SUMMARY:Cars And Coffee at United BMW Roswell, Ga
DESCRIPTION:We will begin the 2010 Season of Cars And Coffee For A Wor
 thy Cause in Atlanta with an exciting special season kickoff!\n\nJoin 
 “Us” for Cars And Coffee at United BMW of Roswell on Alpharetta Hi
 ghway on Sunday March 28th from 2 PM until 5 PM.\n\nThis upcoming even
 t at United BMW Roswell does not require a registration fee to partici
 pate or to attend. It is open to everyone including ALL automobile and
  motorcycle owners as well as BMW CCA, z3, BMWMOA and all club members
 , automobile and motorcycle owners!\n\nAll of \"Us\" are invited....Co
 me as you are ...but bring your car, or motorcycle!\n\nThe registratio
 n form link below is for those of us that would like to be a part of t
 he effort of\nCars & Coffee For A Worthy Cause and for the Benefit For
  Children’s Healthcare of Atlanta during the 2010 season.\n\nSign Up
  For Cars ’N Coffee For The Benefit Of Children’s Healthcare and r
 eceive your Registration Package w/ Lanyard For You & Your Car Or Moto
 rcycle!\n\nDonations to Children’s Healthcare Of Atlanta Are Tax Ded
 uctable.\n\nCall United BMW Of Roswell, Georgia - For Reservations & M
 ore Information .\nR.S.V.P. - 866.445.7494\n\nUse this link below to d
 ownload PDF files for the United BMW of Roswell event.\n\nUnited BMW o
 f Roswell -1\nUnited BMW of Roswell -2\nWould you please pass this inf
 ormation along on how easy it is to attend this special season kickoff
  event to your friends.\n\nThank you.\n\nSincerely,\n\nFor more inform
 ation visit https://www.southeastwheelsevents.com/events/cars-and-coff
 ee-at-united-bmw
DTSTART;TZID=Pacific/Midway:20100328T140000
DTEND;TZID=Pacific/Midway:20100328T170000
CATEGORIES:car-show, fundraiser
LOCATION:United BMW Roswell
WEBSITE:http://www.CarsAndCoffee.Us
URL:http://www.CarsAndCoffee.Us
CONTACT:866.445.7494
ORGANIZER:Car and Coffee
ATTACH;FMTTYPE="image/jpeg":http://storage.ning.com/topology/rest/1.0/
 file/get/967566979?profile=original
ATTENDEE;ROLE=REQ-PARTICIPANT;PARTSTAT=ACCEPTED;RSVP=TRUE;CN="Jeff Rut
 herford":https://www.southeastwheelsevents.com/profile/JeffreyRutherfo
 rd
END:VEVENT
END:VCALENDAR
