BEGIN:VCALENDAR
PRODID:NingEventWidget-v1
VERSION:2.0
METHOD:PUBLISH
BEGIN:VTIMEZONE
TZID:Pacific/Midway
X-LIC-LOCATION:Pacific/Midway
BEGIN:STANDARD
TZOFFSETFROM:-1100
TZOFFSETTO:-1100
TZNAME:SST
DTSTART:19700101T000000
END:STANDARD
END:VTIMEZONE
BEGIN:VEVENT
UID:5072275:Event:82451
DTSTAMP:20260424T063740Z
SUMMARY:Charlotte Cars and Coffee -Charlotte, NC
DESCRIPTION:Charlotte Cars and Coffee\n915 Hamilton St, Charlotte, NC 
 28206\nHeld on the first Saturday of every month, Charlotte Cars and C
 offee is growing and becoming a great chance to share your awesome rid
 es with friends and family, as well as the great members of the Charlo
 tte and Greater Charlotte Community. Be sure to come with your very be
 st ride and group of friends that are ready to enjoy a great time! The
  parking lot is quite large but fills up quick, so be sure to get ther
 e early and claim your spot. In case of a weather delay, the Cars and 
 Coffee will move to the following Saturday.\nCars and Coffee™ Charlo
 tte launched December 6, 2008. Cars and Coffee™ Charlotte is a month
 ly gathering of auto enthusiasts from 7:30am - 11:00am on the first Sa
 turday of each month where proud drivers from the greater Charlotte ar
 ea and beyond will congregate to kick tires and have a cup of coffee. 
 There will be something for everyone to enjoy; classics, exotics, conc
 epts, hotrods, motorcycles and motor-sport. And it's all free, minus t
 he coffee of course. Click here to get directions to the show.\n\nFo
 r more information visit https://www.southeastwheelsevents.com/events/
 cars-and-coffee-charlotte-nc
DTSTART;TZID=Pacific/Midway:20161203T073000
DTEND;TZID=Pacific/Midway:20161203T230000
CATEGORIES:crusie-in
LOCATION:Charlotte Cars and Coffee
WEBSITE:http://charlotte.carsandcoffee.info/
URL:http://charlotte.carsandcoffee.info/
CONTACT:704-376-1020
ORGANIZER:Cars & Coffee
ATTACH;FMTTYPE="image/jpeg":http://storage.ning.com/topology/rest/1.0/
 file/get/967585327?profile=original
ATTENDEE;ROLE=REQ-PARTICIPANT;PARTSTAT=ACCEPTED;RSVP=TRUE;CN=Leroy:htt
 ps://www.southeastwheelsevents.com/profile/Leroy
END:VEVENT
END:VCALENDAR
