BEGIN:VCALENDAR
PRODID:NingEventWidget-v1
VERSION:2.0
METHOD:PUBLISH
BEGIN:VTIMEZONE
TZID:Pacific/Midway
X-LIC-LOCATION:Pacific/Midway
BEGIN:STANDARD
TZOFFSETFROM:-1100
TZOFFSETTO:-1100
TZNAME:SST
DTSTART:19700101T000000
END:STANDARD
END:VTIMEZONE
BEGIN:VEVENT
UID:5072275:Event:1075647
DTSTAMP:20260423T220622Z
SUMMARY:Cars and Coffee Crete, IL
DESCRIPTION:So far we have had some Great turnouts, but we want to kee
 p on growing! Hang out with Gateway Classic Cars on the last Saturday 
 of every month for Cars & Coffee! Enjoy delicious donuts, coffee, & al
 l or our newest arrivals! No Admission fee and kid friendly. All makes
  and models are welcome to cruise in and if you dont have a cruiser we
  still want you and your family to come.\n250+ classics & exotics!\n\n
 For more information visit https://www.southeastwheelsevents.com/event
 s/cars-and-coffee-crete-il
DTSTART;TZID=Pacific/Midway:20180127T090000
DTEND;TZID=Pacific/Midway:20180127T120000
CATEGORIES:cruise, in, free
LOCATION:Gateway Classic Cars of Chicago
WEBSITE:https://www.facebook.com/events/265122774017965/
URL:https://www.facebook.com/events/265122774017965/
CONTACT:618-589-9952
ORGANIZER;CN="Gateway Classic Cars":https://www.southeastwheelsevents.
 com/profile/GatewayClassicCars
ATTACH;FMTTYPE="image/jpeg":http://storage.ning.com/topology/rest/1.0/
 file/get/967760725?profile=original
ATTENDEE;ROLE=REQ-PARTICIPANT;PARTSTAT=ACCEPTED;RSVP=TRUE;CN="Gateway 
 Classic Cars":https://www.southeastwheelsevents.com/profile/GatewayCla
 ssicCars
END:VEVENT
END:VCALENDAR
