BEGIN:VCALENDAR
PRODID:NingEventWidget-v1
VERSION:2.0
METHOD:PUBLISH
BEGIN:VTIMEZONE
TZID:Pacific/Midway
X-LIC-LOCATION:Pacific/Midway
BEGIN:STANDARD
TZOFFSETFROM:-1100
TZOFFSETTO:-1100
TZNAME:SST
DTSTART:19700101T000000
END:STANDARD
END:VTIMEZONE
BEGIN:VEVENT
UID:5072275:Event:1181541
DTSTAMP:20260420T064738Z
SUMMARY:Cars and Coffee - Orlando, Fl
DESCRIPTION:Organised on the third Saturday of every month Hagerty Ca
 rs and Coffee at the Ace.\n\n\nFor more information visit https://www.
 southeastwheelsevents.com/events/cars-and-coffee-orlando-fl
DTSTART;TZID=Pacific/Midway:20191221T080000
DTEND;TZID=Pacific/Midway:20191221T230000
CATEGORIES:car, meet, show, cars, and, coffee, cruise-in
LOCATION:Ace Cafe,
WEBSITE:https://www.acecafeusa.com/
URL:https://www.acecafeusa.com/
CONTACT:407-996-6686
ORGANIZER:
ATTACH;FMTTYPE="image/jpeg":https://storage.ning.com/topology/rest/1.0
 /file/get/3700584305?profile=original
ATTENDEE;ROLE=REQ-PARTICIPANT;PARTSTAT=ACCEPTED;RSVP=TRUE;CN="Anthony 
 Hopkins":https://www.southeastwheelsevents.com/profile/AnthonyHopkins
END:VEVENT
END:VCALENDAR
