BEGIN:VCALENDAR
PRODID:NingEventWidget-v1
VERSION:2.0
METHOD:PUBLISH
BEGIN:VTIMEZONE
TZID:Pacific/Midway
X-LIC-LOCATION:Pacific/Midway
BEGIN:STANDARD
TZOFFSETFROM:-1100
TZOFFSETTO:-1100
TZNAME:SST
DTSTART:19700101T000000
END:STANDARD
END:VTIMEZONE
BEGIN:VEVENT
UID:5072275:Event:1085756
DTSTAMP:20260424T065530Z
SUMMARY:Cars and Coffee Presented by Grundy
DESCRIPTION:Cruise in to Gateway Classic Cars every last Saturday of t
 he month for Cars & Coffee: Presented by Grundy Insurance!So far we ha
 ve had some amazing turnouts, but we want to continue to grow! Enjoy d
 elicious donuts, coffee and all of our sweet rides! No Admission fee a
 nd everyone is welcome! No cruiser? No sweat bring the daily driver. H
 ope to see you there.250+ classic & exotics\nMay 26 2018\nJune 30 2018
 \nJuly 28 2018\nAugust 25 2018\nSeptember 29 2018\nOctober 27 2018\nNo
 vember 24 2018\nDecember 29 2018\nEVERY LAST SATURDAY OF THE MONTH9 AM
  - 12 PM NOW ACCEPTING VENDORS!\n\nFor more information visit https://
 www.southeastwheelsevents.com/events/cars-and-coffee-presented-by-grun
 dy-711
DTSTART;TZID=Pacific/Midway:20180630T090000
DTEND;TZID=Pacific/Midway:20180630T120000
CATEGORIES:cruise, in
LOCATION:Cars and Coffee Presented by Grundy
WEBSITE:http://www.gatewayclassiccars.com/
URL:http://www.gatewayclassiccars.com/
CONTACT:6185899952
ORGANIZER;CN="Gateway Classic Cars":https://www.southeastwheelsevents.
 com/profile/GatewayClassicCars
ATTACH;FMTTYPE="image/jpeg":http://storage.ning.com/topology/rest/1.0/
 file/get/967773267?profile=original
ATTENDEE;ROLE=REQ-PARTICIPANT;PARTSTAT=ACCEPTED;RSVP=TRUE;CN="Gateway 
 Classic Cars":https://www.southeastwheelsevents.com/profile/GatewayCla
 ssicCars
END:VEVENT
END:VCALENDAR
