BEGIN:VCALENDAR
PRODID:NingEventWidget-v1
VERSION:2.0
METHOD:PUBLISH
BEGIN:VTIMEZONE
TZID:Pacific/Midway
X-LIC-LOCATION:Pacific/Midway
BEGIN:STANDARD
TZOFFSETFROM:-1100
TZOFFSETTO:-1100
TZNAME:SST
DTSTART:19700101T000000
END:STANDARD
END:VTIMEZONE
BEGIN:VEVENT
UID:5072275:Event:1183179
DTSTAMP:20260421T192432Z
SUMMARY:Cars and Coffee - Wilmington, NC
DESCRIPTION:An informal monthly gathering of car enthusiasts.  Curren
 tly, they meet the first Saturday of each month at The Point at Barcla
 y starting around 9 AM.\n\nFor more information visit https://www.sout
 heastwheelsevents.com/events/cars-and-coffee-wilmington-nc-2
DTSTART;TZID=Pacific/Midway:20200307T090000
DTEND;TZID=Pacific/Midway:20200307T110000
CATEGORIES:car, show, cruise-in
LOCATION:The Pointe at Barclay,
WEBSITE:https://www.facebook.com/CandCWilmington/
URL:https://www.facebook.com/CandCWilmington/
CONTACT:
ORGANIZER:
ATTACH;FMTTYPE="image/jpeg":https://storage.ning.com/topology/rest/1.0
 /file/get/3708337689?profile=original
ATTENDEE;ROLE=REQ-PARTICIPANT;PARTSTAT=ACCEPTED;RSVP=TRUE;CN="Anthony 
 Hopkins":https://www.southeastwheelsevents.com/profile/AnthonyHopkins
END:VEVENT
END:VCALENDAR
