BEGIN:VCALENDAR
PRODID:NingEventWidget-v1
VERSION:2.0
METHOD:PUBLISH
BEGIN:VTIMEZONE
TZID:Pacific/Midway
X-LIC-LOCATION:Pacific/Midway
BEGIN:STANDARD
TZOFFSETFROM:-1100
TZOFFSETTO:-1100
TZNAME:SST
DTSTART:19700101T000000
END:STANDARD
END:VTIMEZONE
BEGIN:VEVENT
UID:5072275:Event:1078693
DTSTAMP:20260419T010800Z
SUMMARY:Cars and Coffee -York, SC
DESCRIPTION:Joins us the 2nd Saturday of each month.  For Cars & Coff
 ee, \r\nClassic, Hot Rod, Sports, Bug, Convertible..... If you like c
 ars come and meet fellow enthusiast \r\n\n\nFor more information visi
 t https://www.southeastwheelsevents.com/events/cars-and-coffee-york-sc
DTSTART;TZID=Pacific/Midway:20180512T070000
DTEND;TZID=Pacific/Midway:20180512T100000
CATEGORIES:get, toghether
LOCATION:\"Downtown York\"
WEBSITE:http://www.greateryorkchamber.com
URL:http://www.greateryorkchamber.com
CONTACT:8036842590
ORGANIZER:Mary Catherine Ward
ATTACH;FMTTYPE="image/jpeg":http://storage.ning.com/topology/rest/1.0/
 file/get/967738445?profile=original
ATTENDEE;ROLE=REQ-PARTICIPANT;PARTSTAT=ACCEPTED;RSVP=TRUE;CN="Chuck Aa
 ron":https://www.southeastwheelsevents.com/profile/ChuckAaron886
END:VEVENT
END:VCALENDAR
