BEGIN:VCALENDAR
PRODID:NingEventWidget-v1
VERSION:2.0
METHOD:PUBLISH
BEGIN:VTIMEZONE
TZID:Pacific/Midway
X-LIC-LOCATION:Pacific/Midway
BEGIN:STANDARD
TZOFFSETFROM:-1100
TZOFFSETTO:-1100
TZNAME:SST
DTSTART:19700101T000000
END:STANDARD
END:VTIMEZONE
BEGIN:VEVENT
UID:5072275:Event:1231726
DTSTAMP:20260419T013201Z
SUMMARY:Cars and Faith - Woodstock, GA
DESCRIPTION:We are reaching out to you and hope that you will support 
 our Charity Car Show Event scheduled for January 8, 2022, from 1 – 4
 pm. Proceeds will benefit the Church on the Street Ministry organized 
 by First Baptist Woodstock, a local church with over 15,000 members. 
 \n\nThis event is open to the general public, all we ask is that you g
 ive what you can from the heart. \n\nGlass Tiger is the co-host, and 
 event organizer. Are you proud of your car? Want to put it in the show
  and hang out with other car guys and gals and talk shop? This is the 
 place to be. Showing your car costs nothing. \n\nWe are looking for s
 ponsors. We would love to have your support as a sponsor for the event
 , and this car show will present an outstanding opportunity for you to
  get in front of new customers, and speak to them about your brand, co
 mpany, organization, or group. \n\nFeel free to share this event with
  anyone that you know, and pass this along to people that may have int
 erest, and please come hungry! We will have food trucks on site, and w
 e need your help to support this cost, which will be significant. This
  is a family oriented event, and a playground is on the campus for chi
 ldren.\n\nWe thank you in advance for your kind consideration and supp
 ort…..\n\nSincerely,\nKevin Wallace | Steve Flanagan | Event Coordin
 ators\nCars & Faith Charity Car Show\nSteveLFlanagan@Gmail.com\nGlass 
 Tiger Auto Aesthetics\n503 Hickory Ridge Trail #170\nWoodstock, GA. 30
 188\nContact Number: 678-498-6841\nCall or email us for more info.\n\n
 Event Location, Date and Time\nFirst Baptist Woodstock\n11905 HWY 92, 
 Woodstock GA. 30188\nEvent Date & Time: January 8th, 2022 1-4pm.\n\n\n
 \n\n\nFor more information visit https://www.southeastwheelsevents.com
 /events/cars-and-faith-woodstock-ga
DTSTART;TZID=Pacific/Midway:20220108T130000
DTEND;TZID=Pacific/Midway:20220108T160000
CATEGORIES:car, and, charity, show
LOCATION:First Baptist Woodstock
WEBSITE:
URL:
CONTACT:7707437737
ORGANIZER;CN="Jarrett Kirby":https://www.southeastwheelsevents.com/pro
 file/JarrettKirby896
ATTACH;FMTTYPE="image/jpeg":https://storage.ning.com/topology/rest/1.0
 /file/get/9966250296?profile=original
ATTENDEE;ROLE=REQ-PARTICIPANT;PARTSTAT=ACCEPTED;RSVP=TRUE;CN="Jarrett 
 Kirby":https://www.southeastwheelsevents.com/profile/JarrettKirby896
END:VEVENT
END:VCALENDAR
