BEGIN:VCALENDAR
PRODID:NingEventWidget-v1
VERSION:2.0
METHOD:PUBLISH
BEGIN:VTIMEZONE
TZID:Pacific/Midway
X-LIC-LOCATION:Pacific/Midway
BEGIN:STANDARD
TZOFFSETFROM:-1100
TZOFFSETTO:-1100
TZNAME:SST
DTSTART:19700101T000000
END:STANDARD
END:VTIMEZONE
BEGIN:VEVENT
UID:5072275:Event:407035
DTSTAMP:20260424T084237Z
SUMMARY:Cars and 'Q for the Cause -Atlanta, GA
DESCRIPTION:Join Choate Construction for Cars and 'Q for the Cause, t
 he annual event featuring stellar cars, super BBQ, and sweet music to 
 benefit the Cystic Fibrosis Foundation.\n\nFor more information visit 
 https://www.southeastwheelsevents.com/events/cars-and-q-for-the-cause
DTSTART;TZID=Pacific/Midway:20111006T163000
DTEND;TZID=Pacific/Midway:20111006T193000
CATEGORIES:car, show
LOCATION:Choate Construction Company Office
WEBSITE:http://www.choateco.com/events.html
URL:http://www.choateco.com/events.html
CONTACT:678-892-1224
ORGANIZER;CN="Emily Bridges":https://www.southeastwheelsevents.com/pro
 file/EmilyChoate
ATTACH;FMTTYPE="image/jpeg":http://storage.ning.com/topology/rest/1.0/
 file/get/967601134?profile=original
ATTENDEE;ROLE=REQ-PARTICIPANT;PARTSTAT=ACCEPTED;RSVP=TRUE;CN="Emily Br
 idges":https://www.southeastwheelsevents.com/profile/EmilyChoate
END:VEVENT
END:VCALENDAR
