BEGIN:VCALENDAR
PRODID:NingEventWidget-v1
VERSION:2.0
METHOD:PUBLISH
BEGIN:VTIMEZONE
TZID:Pacific/Midway
X-LIC-LOCATION:Pacific/Midway
BEGIN:STANDARD
TZOFFSETFROM:-1100
TZOFFSETTO:-1100
TZNAME:SST
DTSTART:19700101T000000
END:STANDARD
END:VTIMEZONE
BEGIN:VEVENT
UID:5072275:Event:1188841
DTSTAMP:20260421T164345Z
SUMMARY:Cars, Barks and Cue Open Car Show - Peachtree Corners, GA
DESCRIPTION:\nCalling all Car Clubs and Spectators to join us for some
  fun at Cars, Barks & Cue! Bring your classics and moderns, rat rods a
 nd WIPS (work in progress!) Awards for Top 10, Best Classic & Best Mod
 ern (Popular Choice), a special \"Gray Dog Choice\" and \"Cue's Pick\"
  Awards, Everyone's welcome! $20 suggested donation per car entry to b
 e eligible for awards!  Spectators (FREE!!) will get to see some great
  classic and modern classic cars up close, meet their owners and \"tal
 k shop\", meet some of our Rescue Alumni and available pups, and enjoy
  some great music at this family and (well-behaved) pup, friendly even
 t! Plus you can sit back and watch the show and eat some great barbecu
 e with your family and friends on the pet-friendly patio!\n\nFor more 
 information visit https://www.southeastwheelsevents.com/events/cars-ba
 rks-amp-cue-open-car-show-peachtree-corners-ga
DTSTART;TZID=Pacific/Midway:20200419T120000
DTEND;TZID=Pacific/Midway:20200419T160000
CATEGORIES:fundraiser, animal, rescue
LOCATION:Cue - Peachtree Corners
WEBSITE:https://www.facebook.com/events/491886588369412/
URL:https://www.facebook.com/events/491886588369412/
CONTACT:678-561-0897
ORGANIZER:Lynn Joseph - Atlanta Weimaraner Rescue
ATTACH;FMTTYPE="image/jpeg":https://storage.ning.com/topology/rest/1.0
 /file/get/3870696051?profile=original
ATTENDEE;ROLE=REQ-PARTICIPANT;PARTSTAT=ACCEPTED;RSVP=TRUE;CN="Lynn Jos
 eph":https://www.southeastwheelsevents.com/profile/LynnJoseph
ATTENDEE;ROLE=REQ-PARTICIPANT;PARTSTAT=TENTATIVE;RSVP=TRUE;CN="Bill mu
 sarra":https://www.southeastwheelsevents.com/profile/billmusarra
END:VEVENT
END:VCALENDAR
