BEGIN:VCALENDAR
PRODID:NingEventWidget-v1
VERSION:2.0
METHOD:PUBLISH
BEGIN:VTIMEZONE
TZID:Pacific/Midway
X-LIC-LOCATION:Pacific/Midway
BEGIN:STANDARD
TZOFFSETFROM:-1100
TZOFFSETTO:-1100
TZNAME:SST
DTSTART:19700101T000000
END:STANDARD
END:VTIMEZONE
BEGIN:VEVENT
UID:5072275:Event:1002207
DTSTAMP:20260421T214248Z
SUMMARY:Cars By The Creek -Montevallo, AL
DESCRIPTION:Cars by the Creek in Montevallo, AL. 35115\r\nSaturday 9 a
 m - 3 pm\r\nVisit our FB page at Carsbythecreek.\r\nCars By The Creek 
 -Montevallo, AL\n\nFor more information visit https://www.southeastwhe
 elsevents.com/events/cars-by-the-creek-1
DTSTART;TZID=Pacific/Midway:20220910T090000
DTEND;TZID=Pacific/Midway:20220910T150000
CATEGORIES:car, show
LOCATION:Montevallo, AL. Orr Park
WEBSITE:http://carsbythecreek.com/
URL:http://carsbythecreek.com/
CONTACT:205-960-8587
ORGANIZER;CN="Steve Gilbert":https://www.southeastwheelsevents.com/pro
 file/SteveGilbert
ATTACH;FMTTYPE="image/jpeg":http://storage.ning.com/topology/rest/1.0/
 file/get/967712375?profile=original
ATTENDEE;ROLE=REQ-PARTICIPANT;PARTSTAT=ACCEPTED;RSVP=TRUE;CN="Steve Gi
 lbert":https://www.southeastwheelsevents.com/profile/SteveGilbert
ATTENDEE;ROLE=REQ-PARTICIPANT;PARTSTAT=ACCEPTED;RSVP=TRUE;CN="Chuck Aa
 ron":https://www.southeastwheelsevents.com/profile/ChuckAaron
ATTENDEE;ROLE=REQ-PARTICIPANT;PARTSTAT=ACCEPTED;RSVP=TRUE;CN="Chuck Aa
 ron":https://www.southeastwheelsevents.com/profile/ChuckAaron886
END:VEVENT
END:VCALENDAR
