BEGIN:VCALENDAR
PRODID:NingEventWidget-v1
VERSION:2.0
METHOD:PUBLISH
BEGIN:VTIMEZONE
TZID:Pacific/Midway
X-LIC-LOCATION:Pacific/Midway
BEGIN:STANDARD
TZOFFSETFROM:-1100
TZOFFSETTO:-1100
TZNAME:SST
DTSTART:19700101T000000
END:STANDARD
END:VTIMEZONE
BEGIN:VEVENT
UID:5072275:Event:1174368
DTSTAMP:20260423T140208Z
SUMMARY:CARS & COFFEE - Peachtree City, GA
DESCRIPTION:\n\nFor more information visit https://www.southeastwheels
 events.com/events/cars-coffee-21
DTSTART;TZID=Pacific/Midway:20190803T090000
DTEND;TZID=Pacific/Midway:20190803T110000
CATEGORIES:cruise, in
LOCATION:Gateway Plaza
WEBSITE:
URL:
CONTACT:
ORGANIZER:Samuel VII
ATTACH;FMTTYPE="image/jpeg":https://storage.ning.com/topology/rest/1.0
 /file/get/3399377064?profile=original
ATTENDEE;ROLE=REQ-PARTICIPANT;PARTSTAT=TENTATIVE;RSVP=TRUE;CN="Jeffrey
  Rutherford":https://www.southeastwheelsevents.com/profile/JeffreyRuth
 erford866
END:VEVENT
END:VCALENDAR
