BEGIN:VCALENDAR
PRODID:NingEventWidget-v1
VERSION:2.0
METHOD:PUBLISH
BEGIN:VTIMEZONE
TZID:Pacific/Midway
X-LIC-LOCATION:Pacific/Midway
BEGIN:STANDARD
TZOFFSETFROM:-1100
TZOFFSETTO:-1100
TZNAME:SST
DTSTART:19700101T000000
END:STANDARD
END:VTIMEZONE
BEGIN:VEVENT
UID:5072275:Event:1024694
DTSTAMP:20260424T065800Z
SUMMARY:Cars & Coffee at University of South Carolina
DESCRIPTION:Cars & Coffee at University of South Carolina. End time ma
 y change\n\nFor more information visit https://www.southeastwheelseven
 ts.com/events/cars-coffee-at-university-of-south-carolina
DTSTART;TZID=Pacific/Midway:20161217T080000
DTEND;TZID=Pacific/Midway:20161217T110000
CATEGORIES:cars, "clubs/shows/cruises"
LOCATION:University of South Carolina
WEBSITE:http://www.corvettesofhh.com/Lists/Calendar/calendar.aspx?Cale
 ndarDate=4%2F28%2F2016
URL:http://www.corvettesofhh.com/Lists/Calendar/calendar.aspx?Calendar
 Date=4%2F28%2F2016
CONTACT:
ORGANIZER:
ATTACH;FMTTYPE="image/jpeg":
ATTENDEE;ROLE=REQ-PARTICIPANT;PARTSTAT=ACCEPTED;RSVP=TRUE;CN="Chris go
 sney":https://www.southeastwheelsevents.com/profile/Chrisgosney
END:VEVENT
END:VCALENDAR
