BEGIN:VCALENDAR
PRODID:NingEventWidget-v1
VERSION:2.0
METHOD:PUBLISH
BEGIN:VTIMEZONE
TZID:Pacific/Midway
X-LIC-LOCATION:Pacific/Midway
BEGIN:STANDARD
TZOFFSETFROM:-1100
TZOFFSETTO:-1100
TZNAME:SST
DTSTART:19700101T000000
END:STANDARD
END:VTIMEZONE
BEGIN:VEVENT
UID:5072275:Event:1024700
DTSTAMP:20260423T034900Z
SUMMARY:Cars & Coffee Columbia
DESCRIPTION:Capitol City Corvette Club - Cars & Coffee Columbia at Car
 mike Wynnsong 10. Event starts at 8:00 am and ends at 11:00 am.\n\nFor
  more information visit https://www.southeastwheelsevents.com/events/c
 ars-coffee-columbia
DTSTART;TZID=Pacific/Midway:20161217T080000
DTEND;TZID=Pacific/Midway:20161217T110000
CATEGORIES:cars, "clubs/shows/cruises"
LOCATION:Carmike Wynnsong 10
WEBSITE:http://www.localendar.com/public/capitolcitycorvette
URL:http://www.localendar.com/public/capitolcitycorvette
CONTACT:
ORGANIZER:Capitol City Corvette Club - CCCC
ATTACH;FMTTYPE="image/jpeg":
ATTENDEE;ROLE=REQ-PARTICIPANT;PARTSTAT=ACCEPTED;RSVP=TRUE;CN="Chris go
 sney":https://www.southeastwheelsevents.com/profile/Chrisgosney
END:VEVENT
END:VCALENDAR
