BEGIN:VCALENDAR
PRODID:NingEventWidget-v1
VERSION:2.0
METHOD:PUBLISH
BEGIN:VTIMEZONE
TZID:Pacific/Midway
X-LIC-LOCATION:Pacific/Midway
BEGIN:STANDARD
TZOFFSETFROM:-1100
TZOFFSETTO:-1100
TZNAME:SST
DTSTART:19700101T000000
END:STANDARD
END:VTIMEZONE
BEGIN:VEVENT
UID:5072275:Event:827806
DTSTAMP:20260423T200424Z
SUMMARY:Cars & Costumes at the Pink Pony, Atlanta, GA
DESCRIPTION:We return to the Pink Pony for another fun afternoon! This
  one is an Open Car Show AND a Costume Contest! Best Halloween Theme C
 ar, Best Car Owner & Car Theme, Best Male, Best Female, Best Couple Ha
 lloween Costumes. The car show will feature Popular Choice Awards, Doo
 r Prizes, 50/50 Raffle. We will have tasty food and beverages. Entry F
 ee is a Donation \r\n\n\nFor more information visit https://www.south
 eastwheelsevents.com/events/cars-costumes-at-the-pink-pony-atlanta-ga
DTSTART;TZID=Pacific/Midway:20241019T120000
DTEND;TZID=Pacific/Midway:20241019T160000
CATEGORIES:car, show, costume, contest, charity, fundraider
LOCATION:The Pink Pony
WEBSITE:http://www.GeorgiaCoolCruisers.org
URL:http://www.GeorgiaCoolCruisers.org
CONTACT:404-732-6842
ORGANIZER;CN="Rick Ellis":https://www.southeastwheelsevents.com/profil
 e/RickEllis
ATTACH;FMTTYPE="image/jpeg":http://storage.ning.com/topology/rest/1.0/
 file/get/967670851?profile=original
ATTENDEE;ROLE=REQ-PARTICIPANT;PARTSTAT=ACCEPTED;RSVP=TRUE;CN="Rick Ell
 is":https://www.southeastwheelsevents.com/profile/RickEllis
ATTENDEE;ROLE=REQ-PARTICIPANT;PARTSTAT=ACCEPTED;RSVP=TRUE;CN="Mike Suh
 anek":https://www.southeastwheelsevents.com/profile/mikesuhanek
ATTENDEE;ROLE=REQ-PARTICIPANT;PARTSTAT=TENTATIVE;RSVP=TRUE;CN="JP Brad
 y":https://www.southeastwheelsevents.com/profile/jpbrady
END:VEVENT
END:VCALENDAR
