BEGIN:VCALENDAR
PRODID:NingEventWidget-v1
VERSION:2.0
METHOD:PUBLISH
BEGIN:VTIMEZONE
TZID:Pacific/Midway
X-LIC-LOCATION:Pacific/Midway
BEGIN:STANDARD
TZOFFSETFROM:-1100
TZOFFSETTO:-1100
TZNAME:SST
DTSTART:19700101T000000
END:STANDARD
END:VTIMEZONE
BEGIN:VEVENT
UID:5072275:Event:1172484
DTSTAMP:20260422T125113Z
SUMMARY:3rd Annual Cars for Campouts
DESCRIPTION:Cars for Campouts\nPresented by I.C. Racing\nPlease contac
 t us at carshow@bsatroop419.org for advance registration form and any
  additional details or questions you may have or visit us at the event
 brite website. \nHelp support our Scouts and enjoy the perfect spot f
 or a car show!\nWe WILL complete awards ceremony at 2PM SHARP!\n\n\n\n
 For more information visit https://www.southeastwheelsevents.com/event
 s/cars-for-campouts-1
DTSTART;TZID=Pacific/Midway:20191005T090000
DTEND;TZID=Pacific/Midway:20191005T140000
CATEGORIES:fundraiser, for, scouts
LOCATION:Duluth First United Methodist Church
WEBSITE:https://www.eventbrite.com/e/2019-cars-for-campouts-tickets-51
 225634251
URL:https://www.eventbrite.com/e/2019-cars-for-campouts-tickets-512256
 34251
CONTACT:7708154206
ORGANIZER:Mike Ringham
ATTACH;FMTTYPE="image/jpeg":https://storage.ning.com/topology/rest/1.0
 /file/get/3193734961?profile=original
ATTENDEE;ROLE=REQ-PARTICIPANT;PARTSTAT=ACCEPTED;RSVP=TRUE;CN="Robert K
 . Chitty":https://www.southeastwheelsevents.com/profile/RobertKChitty
ATTENDEE;ROLE=REQ-PARTICIPANT;PARTSTAT=ACCEPTED;RSVP=TRUE;CN="David Da
 ugherty":https://www.southeastwheelsevents.com/profile/DavidDaugherty
ATTENDEE;ROLE=REQ-PARTICIPANT;PARTSTAT=TENTATIVE;RSVP=TRUE;CN="Steven 
 Beauregard":https://www.southeastwheelsevents.com/profile/StevenBeaure
 gard
END:VEVENT
END:VCALENDAR
