BEGIN:VCALENDAR
PRODID:NingEventWidget-v1
VERSION:2.0
METHOD:PUBLISH
BEGIN:VTIMEZONE
TZID:Pacific/Midway
X-LIC-LOCATION:Pacific/Midway
BEGIN:STANDARD
TZOFFSETFROM:-1100
TZOFFSETTO:-1100
TZNAME:SST
DTSTART:19700101T000000
END:STANDARD
END:VTIMEZONE
BEGIN:VEVENT
UID:5072275:Event:491314
DTSTAMP:20260424T002410Z
SUMMARY:CARS FOR CANINES -Cumming, GA
DESCRIPTION:SECOND ANNUAL CARS FOR CANINES, May 6th, 2012, noon till 4
 PM\n  Rucker Pet and Wild Bird Store, 5456 Bethelview Rd (Hwy 141), C
 umming, GA\nDid someone say “cars”?  Did someone say “dogs”?
  Come join us for some fun with both at the 2nd annual “Cars For Ca
 nines” fund raiser May 6th from 12 noon til 4pm in the parking lot a
 t Rucker Pet and Wild Bird store, Cumming , (www.ruckerpet.com). All p
 roceeds for this event will benefit The Canine Adoption Network, a loc
 al not for profit, all volunteer, 501 C certified, dog rescue group. 
  This very dedicated organization is in need of funding to further the
 ir cause of rescuing abused, neglected dogs and finding good homes for
  them.  For information about C.A.N. please visit their website:  ww
 w.CanineAdoptionNetwork.org.    \nThe fun and festivities will incl
 ude a car show (in secured parking),  with ALL makes and models and v
 intages welcome ( People’s Choice Trophies will be awarded), dog ado
 ptions, a silent auction, great food and more! This will be a terrific
  way to spend an afternoon with family, friends and fellow car enthusi
 asts while supporting a very worthy cause!\nTo enter your special car,
  there will be a $25 donation required ($15 for each additional car).
  All car show entrants will receive lunch for two at the show provide
 d by Jersey Boys Pizza and Subs, as well as a highly collectible Cars 
 4 Canines T shirt.  To enter your special car, please print and compl
 ete the registration form below and send it with a check for $25 (paya
 ble to: C.A.N.) to:  Jim Mitchell at the address that is also listed 
 below.  For car show questions please contact Jim Mitchell at 770 883
  2316 or at jrs190sl@yahoo.com.  If you have something of value that 
 you would like to donate to the silent auction, please also contact Ji
 m Mitchell.\n           SATURDAY, MAY 6, 2012, 12 noon to 4
 pm\nRUCKER PET AND WILD BIRD\n5456 BETHELVIEW RD (HWY 141) CUMMING, GE
 ORGIA 30041\n770 888 3130\n \nMAKE ______________MODEL_______________
 YEAR_____________\n \nSPECIAL FEATURES OR EQUIPMENT?_________________
 _____________________________________\n \nOWNER______________________
 _______________________________________________________\n \nADDRESS__
 ______________________________________________________________________
 ___\n \nPHONE_________________________________E-MAIL_________________
 ____________________\n \nT SHIRT SIZE( one per entry, S, M,L, XL, XXL
 )________________________________\n \nENTRY FOR ALL CARS WILL BE A $2
 5.00 DONATION TO THE\nCANINE ADOPTION NETWORK, SECOND CAR WILL BE $15.
 00.\n \nENTRY TO THE EVENT WILL BE FREE TO THE PUBLIC.  EACH SHOW EN
 TRY WILL RECEIVE LUNCH  FOR TWO PEOPLE  Provided by Jersey Boys Subs
  and Pizza, AND AN EVENT T SHIRT.  ALL PROCEEDS BENEFIT THE CANINE AD
 OPTION NETWORK.\nPLEASE SEND COMPLETED REGISTRATION FORM AND A CHECK F
 OR $25.00 MADE OUT TO CANINE ADOPTION NETWORK.  MAIL CHECK AND FORM T
 O:\n \nJim Mitchell, 135 Hopewell Grove Dr, Alpharetta, GA 30004\n \
 nYou may also  access a registration form and/or register securely on
 line using PayPal or a credit by going to:  www.canineadoptionnetwork
 .org\n\nFor more information visit https://www.southeastwheelsevents.c
 om/events/cars-for-canines
DTSTART;TZID=Pacific/Midway:20120506T120000
DTEND;TZID=Pacific/Midway:20120506T160000
CATEGORIES:fundraiser, for, "canine adoption network"
LOCATION:Rucker Pet and Wild Bird store, Cumming, GA
WEBSITE:http://www.ruckerpetandbird.com
URL:http://www.ruckerpetandbird.com
CONTACT:770 883 2316
ORGANIZER;CN="Jim Mitchell":https://www.southeastwheelsevents.com/prof
 ile/JimMitchell
ATTACH;FMTTYPE="image/jpeg":http://storage.ning.com/topology/rest/1.0/
 file/get/967607411?profile=original
ATTENDEE;ROLE=REQ-PARTICIPANT;PARTSTAT=ACCEPTED;RSVP=TRUE;CN="Jim Mitc
 hell":https://www.southeastwheelsevents.com/profile/JimMitchell
ATTENDEE;ROLE=REQ-PARTICIPANT;PARTSTAT=TENTATIVE;RSVP=TRUE;CN="Mike & 
 Beverly Raznoff":https://www.southeastwheelsevents.com/profile/Beverly
 Raznoff
END:VEVENT
END:VCALENDAR
