BEGIN:VCALENDAR
PRODID:NingEventWidget-v1
VERSION:2.0
METHOD:PUBLISH
BEGIN:VTIMEZONE
TZID:Pacific/Midway
X-LIC-LOCATION:Pacific/Midway
BEGIN:STANDARD
TZOFFSETFROM:-1100
TZOFFSETTO:-1100
TZNAME:SST
DTSTART:19700101T000000
END:STANDARD
END:VTIMEZONE
BEGIN:VEVENT
UID:5072275:Event:1248835
DTSTAMP:20260424T082553Z
SUMMARY:Cars of Chateau-Braselton
DESCRIPTION:\r\n\r\nWatch a great video from last year!\r\n Chateau E
 lan Military Support Foundation 5th Annual Cars of Chateau Charity Eve
 nt  October 27,  2024 Chateau Elan Winery & Resort, Braselton, GA Ch
 ateau Elan Military Support Foundation (CEMSF) is a non profit 501 (c)
 (3) organization with over 90% of all funds going directly to support 
 the needs of veterans\r\n\r\n\r\n\r\n Join this family friendly event 
 with live Music, Special Guests, Airshow with Full Throttle Formation 
 Team, Food and Drink, Silent Auction, Kids Activities Exotic, Classic,
  Muscle Cars and Race Cars on Display! General Admission:  $20 online
  and $25 day of the show ​Patron Level VIP Ticket:  $150 Approved C
 ar Registration fee:  $50 ​CHILDREN AGE 12 AND UNDER ARE FREE!!\r\n
 \r\n\r\nREGISTRATION\r\n\n\nFor more information visit https://www.sou
 theastwheelsevents.com/events/cars-of-chateau-braselton
DTSTART;TZID=Pacific/Midway:20241027T110000
DTEND;TZID=Pacific/Midway:20241027T160000
CATEGORIES:exotic, and, classic, car, show
LOCATION:Chateau Elan Hotel and Winery
WEBSITE:https://www.cemilitarysupportfoundation.org/events.html
URL:https://www.cemilitarysupportfoundation.org/events.html
CONTACT:Paula Ragsdale 404-290-1702
ORGANIZER;CN="Cars of Chateau":https://www.southeastwheelsevents.com/p
 rofile/CarsofChateau
ATTACH;FMTTYPE="image/jpeg":https://storage.ning.com/topology/rest/1.0
 /file/get/12224981063?profile=original
ATTENDEE;ROLE=REQ-PARTICIPANT;PARTSTAT=ACCEPTED;RSVP=TRUE;CN="Cars of 
 Chateau":https://www.southeastwheelsevents.com/profile/CarsofChateau
END:VEVENT
END:VCALENDAR
