BEGIN:VCALENDAR
PRODID:NingEventWidget-v1
VERSION:2.0
METHOD:PUBLISH
BEGIN:VTIMEZONE
TZID:Pacific/Midway
X-LIC-LOCATION:Pacific/Midway
BEGIN:STANDARD
TZOFFSETFROM:-1100
TZOFFSETTO:-1100
TZNAME:SST
DTSTART:19700101T000000
END:STANDARD
END:VTIMEZONE
BEGIN:VEVENT
UID:5072275:Event:421484
DTSTAMP:20260423T021915Z
SUMMARY:Cars of the Past #19 -Covington, GA
DESCRIPTION:Covington car show presents Cars of the Past #19.  Sunday
  October 2nd  2011.\nTop 100 Trophies\nTop 10 Best OF\nBest Ford, Che
 vy, Mopar, Truck, Orignal, Custom, Pick of the show and Best of Show.\
 nLocated on the Square in Covington\nPlenty of Food Music and Fum\nDJ 
 Tommy Landrum\n\nFor more information visit https://www.southeastwheel
 sevents.com/events/cars-of-the-past-19
DTSTART;TZID=Pacific/Midway:20111002T080000
DTEND;TZID=Pacific/Midway:20111002T160000
CATEGORIES:car, show
LOCATION:Covington Square
WEBSITE:http://www.covingtoncarshow.com
URL:http://www.covingtoncarshow.com
CONTACT:404 787-2852
ORGANIZER;CN="covington car show":https://www.southeastwheelsevents.co
 m/profile/covingtoncarshow
ATTACH;FMTTYPE="image/jpeg":
ATTENDEE;ROLE=REQ-PARTICIPANT;PARTSTAT=ACCEPTED;RSVP=TRUE;CN="Dave Wil
 liams":https://www.southeastwheelsevents.com/profile/DaveWilliams
ATTENDEE;ROLE=REQ-PARTICIPANT;PARTSTAT=ACCEPTED;RSVP=TRUE;CN="covingto
 n car show":https://www.southeastwheelsevents.com/profile/covingtoncar
 show
ATTENDEE;ROLE=REQ-PARTICIPANT;PARTSTAT=TENTATIVE;RSVP=TRUE;CN="JP Brad
 y":https://www.southeastwheelsevents.com/profile/jpbrady
ATTENDEE;ROLE=REQ-PARTICIPANT;PARTSTAT=TENTATIVE;RSVP=TRUE;CN="Dan che
 lko":https://www.southeastwheelsevents.com/profile/Danchelk
END:VEVENT
END:VCALENDAR
