BEGIN:VCALENDAR
PRODID:NingEventWidget-v1
VERSION:2.0
METHOD:PUBLISH
BEGIN:VTIMEZONE
TZID:Pacific/Midway
X-LIC-LOCATION:Pacific/Midway
BEGIN:STANDARD
TZOFFSETFROM:-1100
TZOFFSETTO:-1100
TZNAME:SST
DTSTART:19700101T000000
END:STANDARD
END:VTIMEZONE
BEGIN:VEVENT
UID:5072275:Event:1228485
DTSTAMP:20260420T144614Z
SUMMARY:Cars of the Past # 28
DESCRIPTION:Rotary Club of Covington Cars of the Past # 28The Rotary C
 lub of Covington would like to invite you to the 28th Annual Cars of t
 he Past Covington Car Show. You are invited to bring your classic car,
  truck, show car, Motorcycle or Golf Cart to show, or to be a sponsor 
 of the car show or to attend and just enjoy the cars.This car show is 
 a high quality event that has increased in popularity each year. Last 
 year's event featured 200+ antique cars and over three thousand specta
 tors attended. Hosted by the Rotary Club of Covington, this year's sho
 w will be held on Sunday, October 3, 2021 on the Historic Covington Sq
 uare, and is shaping up to be spectacular community event.Chartered in
  February 1939, the Rotary Club is a pillar of the community. The car 
 show will help raise funds for the Covington Rotary and for the many c
 ivic projects that we do in the community.Directions: I-20 to Exit 90.
  East on 278 to Pace Street and turn right. Pace Street runs right int
 o the Covington SquarePhone: (770) 678-5087 (Local)Email: covingtoncar
 show@rotarycovington.orgWebsite: http://www.rotarycovington.org \nPh
 ysical Address - Covington Square1124 Clark StreetCovington SquareCovi
 ngton, GA 30014Mailing AddressP.O. Box 1063Covington, GA 30014Spectato
 rs Free. Show car registration $20.00 in advance, $25.00 the day of th
 e show\n\nFor more information visit https://www.southeastwheelsevents
 .com/events/cars-of-the-past-28
DTSTART;TZID=Pacific/Midway:20211003T080000
DTEND;TZID=Pacific/Midway:20211003T160000
CATEGORIES:car, show
LOCATION:Covington Square
WEBSITE:http://www.rotarycovington.org
URL:http://www.rotarycovington.org
CONTACT:770-678-5087
ORGANIZER:Tarrence Houston - Rotary Club of Covington
ATTACH;FMTTYPE="image/jpeg":https://storage.ning.com/topology/rest/1.0
 /file/get/9557524860?profile=original
ATTENDEE;ROLE=REQ-PARTICIPANT;PARTSTAT=ACCEPTED;RSVP=TRUE;CN="John Bak
 er":https://www.southeastwheelsevents.com/profile/JohnJBaker
ATTENDEE;ROLE=REQ-PARTICIPANT;PARTSTAT=ACCEPTED;RSVP=TRUE;CN="Joe Davi
 dson":https://www.southeastwheelsevents.com/profile/JoeDavidson
ATTENDEE;ROLE=REQ-PARTICIPANT;PARTSTAT=TENTATIVE;RSVP=TRUE;CN=Jeff:htt
 ps://www.southeastwheelsevents.com/profile/Jeff
ATTENDEE;ROLE=REQ-PARTICIPANT;PARTSTAT=TENTATIVE;RSVP=TRUE;CN="Bill mu
 sarra":https://www.southeastwheelsevents.com/profile/billmusarra
END:VEVENT
END:VCALENDAR
