BEGIN:VCALENDAR
PRODID:NingEventWidget-v1
VERSION:2.0
METHOD:PUBLISH
BEGIN:VTIMEZONE
TZID:Pacific/Midway
X-LIC-LOCATION:Pacific/Midway
BEGIN:STANDARD
TZOFFSETFROM:-1100
TZOFFSETTO:-1100
TZNAME:SST
DTSTART:19700101T000000
END:STANDARD
END:VTIMEZONE
BEGIN:VEVENT
UID:5072275:Event:1062652
DTSTAMP:20260422T134118Z
SUMMARY:Cars of the Past Covington Car Show -Covington, GA
DESCRIPTION:The Rotary Club of Covington would like to invite you to t
 he 25th Annual Cars of the Past Covington Car Show. You are invited to
  bring your classic car,\r\nMotorcycle or Golf Cart to show, be a spon
 sor of the car show or to attend and enjoy the cars.\r\nThis car show 
 is a high quality event that has increased in popularity each year. La
 st year's event featured 250 antique cars and over three thousand spec
 tators attended. Hosted by the Rotary Club of Covington, this year's s
 how will be held on Sunday, October 1, 2017 on the Historic Covington 
 Square, and is shaping up to be spectacular community event.\r\nCharte
 red in February 1939, the Rotary Club is a pillar of the community. Th
 e car show will help raise funds for the Covington Rotary and for the 
 many civic projects that we do in the community.\n\nFor more informati
 on visit https://www.southeastwheelsevents.com/events/cars-of-the-past
 -covington-car-show-2
DTSTART;TZID=Pacific/Midway:20171001T080000
DTEND;TZID=Pacific/Midway:20171001T160000
CATEGORIES:car, show
LOCATION:Covington Square
WEBSITE:http://www.rotarycovington.org
URL:http://www.rotarycovington.org
CONTACT:770-678-5087
ORGANIZER:Rotary Club of Covington
ATTACH;FMTTYPE="image/jpeg":http://storage.ning.com/topology/rest/1.0/
 file/get/967753295?profile=original
ATTENDEE;ROLE=REQ-PARTICIPANT;PARTSTAT=ACCEPTED;RSVP=TRUE;CN="Chuck Aa
 ron":https://www.southeastwheelsevents.com/profile/ChuckAaron886
ATTENDEE;ROLE=REQ-PARTICIPANT;PARTSTAT=ACCEPTED;RSVP=TRUE;CN="Joe Davi
 dson":https://www.southeastwheelsevents.com/profile/JoeDavidson
ATTENDEE;ROLE=REQ-PARTICIPANT;PARTSTAT=ACCEPTED;RSVP=TRUE;CN="Jeffrey 
 Rutherford":https://www.southeastwheelsevents.com/profile/JeffreyRuthe
 rford866
ATTENDEE;ROLE=REQ-PARTICIPANT;PARTSTAT=ACCEPTED;RSVP=TRUE;CN="John Bak
 er":https://www.southeastwheelsevents.com/profile/JohnJBaker
ATTENDEE;ROLE=REQ-PARTICIPANT;PARTSTAT=TENTATIVE;RSVP=TRUE;CN="Bill Da
 vis":https://www.southeastwheelsevents.com/profile/BillDavis
END:VEVENT
END:VCALENDAR
