BEGIN:VCALENDAR
PRODID:NingEventWidget-v1
VERSION:2.0
METHOD:PUBLISH
BEGIN:VTIMEZONE
TZID:Pacific/Midway
X-LIC-LOCATION:Pacific/Midway
BEGIN:STANDARD
TZOFFSETFROM:-1100
TZOFFSETTO:-1100
TZNAME:SST
DTSTART:19700101T000000
END:STANDARD
END:VTIMEZONE
BEGIN:VEVENT
UID:5072275:Event:1183466
DTSTAMP:20260421T100936Z
SUMMARY:Cars On Kiawah - Kiawah Island, Sc
DESCRIPTION:The 5th annual Cars on Kiawah will be held on April 18, 20
 20 at Ocean Park.\n\nFor more information visit https://www.southeastw
 heelsevents.com/events/cars-on-kiawah-kiawah-island-sc
DTSTART;TZID=Pacific/Midway:20200418T100000
DTEND;TZID=Pacific/Midway:20200418T150000
CATEGORIES:car, show, cruise-in
LOCATION:Kiawah Island Motoring Retreat,
WEBSITE:https://www.google.com/maps?q=906+Ocean+Course+Dr,&amp;amp;amp
 ;um=1&amp;amp;amp;ie=UTF-8&amp;amp;amp;sa=X&amp;amp;amp;ved=2ahUKEwim9
 -jmjcXmAhU94jgGHc8FBHMQ_AUoAXoECAwQAw
URL:https://www.google.com/maps?q=906+Ocean+Course+Dr,&amp;amp;amp;um=
 1&amp;amp;amp;ie=UTF-8&amp;amp;amp;sa=X&amp;amp;amp;ved=2ahUKEwim9-jmj
 cXmAhU94jgGHc8FBHMQ_AUoAXoECAwQAw
CONTACT:8432848138
ORGANIZER:Irene Breland
ATTACH;FMTTYPE="image/jpeg":https://storage.ning.com/topology/rest/1.0
 /file/get/874745500?profile=original
ATTENDEE;ROLE=REQ-PARTICIPANT;PARTSTAT=ACCEPTED;RSVP=TRUE;CN="Anthony 
 Hopkins":https://www.southeastwheelsevents.com/profile/AnthonyHopkins
END:VEVENT
END:VCALENDAR
