BEGIN:VCALENDAR
PRODID:NingEventWidget-v1
VERSION:2.0
METHOD:PUBLISH
BEGIN:VTIMEZONE
TZID:Pacific/Midway
X-LIC-LOCATION:Pacific/Midway
BEGIN:STANDARD
TZOFFSETFROM:-1100
TZOFFSETTO:-1100
TZNAME:SST
DTSTART:19700101T000000
END:STANDARD
END:VTIMEZONE
BEGIN:VEVENT
UID:5072275:Event:1238518
DTSTAMP:20260422T203748Z
SUMMARY:Cars on the Lake Car Show -Acwoth, GA
DESCRIPTION:\n\nFor more information visit https://www.southeastwheels
 events.com/events/cars-on-the-lake-car-show-acwoth-ga
DTSTART;TZID=Pacific/Midway:20220924T100000
DTEND;TZID=Pacific/Midway:20220924T150000
CATEGORIES:car, show, benefir, fundraiser, cruise, in
LOCATION:Dallas Landing Park
WEBSITE:https://www.facebook.com/groups/103143853101202
URL:https://www.facebook.com/groups/103143853101202
CONTACT:Dan Wade 770-823-9566
ORGANIZER:Lake Allatoona Region AACA Car Club
ATTACH;FMTTYPE="image/jpeg":https://storage.ning.com/topology/rest/1.0
 /file/get/10817217864?profile=original
ATTENDEE;ROLE=REQ-PARTICIPANT;PARTSTAT=ACCEPTED;RSVP=TRUE;CN="Chuck Aa
 ron":https://www.southeastwheelsevents.com/profile/ChuckAaron886
END:VEVENT
END:VCALENDAR
