BEGIN:VCALENDAR
PRODID:NingEventWidget-v1
VERSION:2.0
METHOD:PUBLISH
BEGIN:VTIMEZONE
TZID:Pacific/Midway
X-LIC-LOCATION:Pacific/Midway
BEGIN:STANDARD
TZOFFSETFROM:-1100
TZOFFSETTO:-1100
TZNAME:SST
DTSTART:19700101T000000
END:STANDARD
END:VTIMEZONE
BEGIN:VEVENT
UID:5072275:Event:1174273
DTSTAMP:20260419T091724Z
SUMMARY:Cars On The Lake Car Show -Acworth, GA
DESCRIPTION:Join us for one of the most up and coming prestigious judg
 ed Car Shows in our area.  The \"Cars On The Lake Show\" benefit's a 
 good cause, the Save Acworth History Foundation, preserving history fo
 r the City of Acworth and several surrounding counties.   Your entry 
 fee donations are Tax deductible. The Show benefits the Save Acworth H
 istory Foundation. Pre-Register on the website under “Cars on the La
 ke” tab.\r\nwww.saveacworthhistory.org\r\nAddress of The Show: Dalla
 s Landing Lake Allatoona,  5120 Allatoona Dr, Acworth, GA 30101\n\nFor
  more information visit https://www.southeastwheelsevents.com/events/c
 ars-on-the-lake-car-show
DTSTART;TZID=Pacific/Midway:20190928T100000
DTEND;TZID=Pacific/Midway:20190928T150000
CATEGORIES:judged, car, show, to, benifit, the, save, acworth, foundat
 ion
LOCATION:Dallas Landing Lake Allatoona, 5120 Allatoona Dr, Acworth, GA
  30101
WEBSITE:http://www.saveacworthhistory.org
URL:http://www.saveacworthhistory.org
CONTACT:770-546-7511
ORGANIZER:Mack Turner
ATTACH;FMTTYPE="image/jpeg":https://storage.ning.com/topology/rest/1.0
 /file/get/3391674668?profile=original
ATTENDEE;ROLE=REQ-PARTICIPANT;PARTSTAT=ACCEPTED;RSVP=TRUE;CN="Chuck Aa
 ron":https://www.southeastwheelsevents.com/profile/ChuckAaron886
ATTENDEE;ROLE=REQ-PARTICIPANT;PARTSTAT=ACCEPTED;RSVP=TRUE;CN="Dan Wade
 ":https://www.southeastwheelsevents.com/profile/DanWade
ATTENDEE;ROLE=REQ-PARTICIPANT;PARTSTAT=TENTATIVE;RSVP=TRUE;CN="JP Brad
 y":https://www.southeastwheelsevents.com/profile/jpbrady
END:VEVENT
END:VCALENDAR
