BEGIN:VCALENDAR
PRODID:NingEventWidget-v1
VERSION:2.0
METHOD:PUBLISH
BEGIN:VTIMEZONE
TZID:Pacific/Midway
X-LIC-LOCATION:Pacific/Midway
BEGIN:STANDARD
TZOFFSETFROM:-1100
TZOFFSETTO:-1100
TZNAME:SST
DTSTART:19700101T000000
END:STANDARD
END:VTIMEZONE
BEGIN:VEVENT
UID:5072275:Event:905663
DTSTAMP:20260419T065618Z
SUMMARY:Carter County Car Club Car Show -Elizabethton,  TN
DESCRIPTION:\r\nOUR \"ALL DAY SHOW \"\r\n\r\n\r\nOur Yearly Fundraiser
  for the Charities. Register your car to have a chance to win a Door P
 rize, a Dash Plaque, a Sponsor Plaque, a 50/50 Drawing, and as always 
 a really good time.  Come join us! \r\n \r\nOur Weekly Cruise-In wi
 ll follow the Show.\r\n \r\n\"All the proceeds go to the children's c
 harities\"\r\n\r\nEvent Details\r\n\r\n\r\n\r\n\r\n9:00 AM\r\n-\r\n5:0
 0 PM\r\n\r\n\r\n507 East Elk Avenue (Downtown) Elizabethton\r\n\n\nFor
  more information visit https://www.southeastwheelsevents.com/events/c
 arter-county-car-club-car-show-elizabethton-tn1
DTSTART;TZID=Pacific/Midway:20210710T080000
DTEND;TZID=Pacific/Midway:20210710T170000
CATEGORIES:car, show, festival
LOCATION:Downtown
WEBSITE:http://www.cartercountycarclubtn.com/
URL:http://www.cartercountycarclubtn.com/
CONTACT:Eddie 423-929-0311
ORGANIZER:CCCC
ATTACH;FMTTYPE="image/jpeg":http://storage.ning.com/topology/rest/1.0/
 file/get/967689215?profile=original
ATTENDEE;ROLE=REQ-PARTICIPANT;PARTSTAT=ACCEPTED;RSVP=TRUE;CN="Chuck Aa
 ron":https://www.southeastwheelsevents.com/profile/ChuckAaron
END:VEVENT
END:VCALENDAR
