BEGIN:VCALENDAR
PRODID:NingEventWidget-v1
VERSION:2.0
METHOD:PUBLISH
BEGIN:VTIMEZONE
TZID:Pacific/Midway
X-LIC-LOCATION:Pacific/Midway
BEGIN:STANDARD
TZOFFSETFROM:-1100
TZOFFSETTO:-1100
TZNAME:SST
DTSTART:19700101T000000
END:STANDARD
END:VTIMEZONE
BEGIN:VEVENT
UID:5072275:Event:1099619
DTSTAMP:20260420T061754Z
SUMMARY:Cascade Girls Softball 3rd Annual Car Show - Wartrace, Tn
DESCRIPTION:Cascade Girls Softball 3rd Annual Car Show at Cascade High
  School.\n\nFor more information visit https://www.southeastwheelseven
 ts.com/events/cascade-girls-softball-3rd-annual-car-show-wartrace-tn
DTSTART;TZID=Pacific/Midway:20180922T080000
DTEND;TZID=Pacific/Midway:20180922T150000
CATEGORIES:car, show, cruise, in
LOCATION:Cascade High School,
WEBSITE:https://www.google.com/maps/place/Cascade+High+School/@35.5669
 834,-86.3612239,17z/data=!3m1!4b1!4m5!3m4!1s0x8863e6e80207ab1b:0xef7c4
 084c27db96d!8m2!3d35.5669791!4d-86.3590352
URL:https://www.google.com/maps/place/Cascade+High+School/@35.5669834,
 -86.3612239,17z/data=!3m1!4b1!4m5!3m4!1s0x8863e6e80207ab1b:0xef7c4084c
 27db96d!8m2!3d35.5669791!4d-86.3590352
CONTACT:(931) 205-1824
ORGANIZER:William Carter
ATTACH;FMTTYPE="image/jpeg":http://storage.ning.com/topology/rest/1.0/
 file/get/967799591?profile=original
ATTENDEE;ROLE=REQ-PARTICIPANT;PARTSTAT=ACCEPTED;RSVP=TRUE;CN="Anthony 
 Hopkins":https://www.southeastwheelsevents.com/profile/AnthonyHopkins
END:VEVENT
END:VCALENDAR
