BEGIN:VCALENDAR
PRODID:NingEventWidget-v1
VERSION:2.0
METHOD:PUBLISH
BEGIN:VTIMEZONE
TZID:Pacific/Midway
X-LIC-LOCATION:Pacific/Midway
BEGIN:STANDARD
TZOFFSETFROM:-1100
TZOFFSETTO:-1100
TZNAME:SST
DTSTART:19700101T000000
END:STANDARD
END:VTIMEZONE
BEGIN:VEVENT
UID:5072275:Event:1200809
DTSTAMP:20260422T181617Z
SUMMARY:Casting Call for Classic 60’s Cars -Atlanta, GA
DESCRIPTION:\r\nSOUHTERN CASTING ASSOCIATES\r\nNow casting for classic
  60’s cars for an upcoming music video shoot in Atlanta, GA. Great r
 ate to be discussed once booked. :-)\r\nShoot date TBD. Put your car t
 o work for you! To apply send a direct contact number, name and a few 
 pictures of the vehicle to: submissions.sca@gmail.com This is for an i
 nternationally known artist and will be a great shoot!\r\n\r\n\r\n\r\n
 \r\n\r\n\r\n\r\n\r\n\r\n\n\nFor more information visit https://www.sou
 theastwheelsevents.com/events/casting-call-for-classic-60-s-cars-atlan
 ta-ga
DTSTART;TZID=Pacific/Midway:20200806T000000
DTEND;TZID=Pacific/Midway:20200823T235900
CATEGORIES:casting, call, music, video
LOCATION:Atlanta area to be determined
WEBSITE:http://www.southerncastingassociates.com/about
URL:http://www.southerncastingassociates.com/about
CONTACT:submissions.sca@gmail.com
ORGANIZER:Southern Casting Associates
ATTACH;FMTTYPE="image/jpeg":https://storage.ning.com/topology/rest/1.0
 /file/get/7290094258?profile=original
ATTENDEE;ROLE=REQ-PARTICIPANT;PARTSTAT=ACCEPTED;RSVP=TRUE;CN="James St
 rickland":https://www.southeastwheelsevents.com/profile/JamesStricklan
 d
ATTENDEE;ROLE=REQ-PARTICIPANT;PARTSTAT=ACCEPTED;RSVP=TRUE;CN="Chuck Aa
 ron":https://www.southeastwheelsevents.com/profile/ChuckAaron886
ATTENDEE;ROLE=REQ-PARTICIPANT;PARTSTAT=TENTATIVE;RSVP=TRUE;CN="Floyd B
 rent Mann":https://www.southeastwheelsevents.com/profile/FloydBrentMan
 n
END:VEVENT
END:VCALENDAR
