BEGIN:VCALENDAR
PRODID:NingEventWidget-v1
VERSION:2.0
METHOD:PUBLISH
BEGIN:VTIMEZONE
TZID:Pacific/Midway
X-LIC-LOCATION:Pacific/Midway
BEGIN:STANDARD
TZOFFSETFROM:-1100
TZOFFSETTO:-1100
TZNAME:SST
DTSTART:19700101T000000
END:STANDARD
END:VTIMEZONE
BEGIN:VEVENT
UID:5072275:Event:567707
DTSTAMP:20260424T100406Z
SUMMARY:CAUSE FOR KOREY BENEFIT CAR SHOW & CONCERT -Newnan. GA
DESCRIPTION:car show,bike ride, art's crafts,food vendor's,bouncer's f
 or kids,Doug Stone Concert all in one day November 17th.2012 gates ope
 n 11:00a.m. car show 1-5 $30. to enter your ride get's you 1 free tick
 et to concert also.top 10 plus 2 besr awards,50/50,door prizes,& more.
 Open to all vehicles.Channel 5 will be there.To purchase concert ticke
 t's only is $20.adults $12.for 5-12 4 & under free.pre-register to ens
 ure space & ticket by Nov.5th.2012 contact: Mary for more info.706-408
 -0422  ALL PROCEEDS GO TO CAUSE FOR KOREY.\n\nFor more information vi
 sit https://www.southeastwheelsevents.com/events/cause-for-korey-benef
 it-car-show-concert
DTSTART;TZID=Pacific/Midway:20121117T110000
DTEND;TZID=Pacific/Midway:20121117T210000
CATEGORIES:car, show, charity, event, concert, "[cause", for, "korey]"
LOCATION:NEWNAN HIGH SCHOOL
WEBSITE:
URL:
CONTACT:706-668-7731
ORGANIZER;CN="mary davenport":https://www.southeastwheelsevents.com/pr
 ofile/marydavenport
ATTACH;FMTTYPE="image/jpeg":http://storage.ning.com/topology/rest/1.0/
 file/get/967623233?profile=original
ATTENDEE;ROLE=REQ-PARTICIPANT;PARTSTAT=ACCEPTED;RSVP=TRUE;CN="mary dav
 enport":https://www.southeastwheelsevents.com/profile/marydavenport
ATTENDEE;ROLE=REQ-PARTICIPANT;PARTSTAT=TENTATIVE;RSVP=TRUE;CN="JP Brad
 y":https://www.southeastwheelsevents.com/profile/jpbrady
END:VEVENT
END:VCALENDAR
