BEGIN:VCALENDAR
PRODID:NingEventWidget-v1
VERSION:2.0
METHOD:PUBLISH
BEGIN:VTIMEZONE
TZID:Pacific/Midway
X-LIC-LOCATION:Pacific/Midway
BEGIN:STANDARD
TZOFFSETFROM:-1100
TZOFFSETTO:-1100
TZNAME:SST
DTSTART:19700101T000000
END:STANDARD
END:VTIMEZONE
BEGIN:VEVENT
UID:5072275:Event:1061812
DTSTAMP:20260422T130200Z
SUMMARY:CC Riders' MARIETTA CRUISE-IN  -Marietta, GA
DESCRIPTION:2nd SATURDAY\r\n\r\nCC Riders' MARIETTA CRUISE-IN (3 PM 
 - DARK\r\n\r\n\n\nFor more information visit https://www.southeastwhee
 lsevents.com/events/cc-riders-marietta-cruise-in-marietta-ga-1
DTSTART;TZID=Pacific/Midway:20170909T150000
DTEND;TZID=Pacific/Midway:20170909T200000
CATEGORIES:cruise, in, car, show
LOCATION:Wendy's Drive In
WEBSITE:
URL:
CONTACT:
ORGANIZER:Southeastern GTO Club
ATTACH;FMTTYPE="image/jpeg":http://storage.ning.com/topology/rest/1.0/
 file/get/967750188?profile=original
ATTENDEE;ROLE=REQ-PARTICIPANT;PARTSTAT=ACCEPTED;RSVP=TRUE;CN="Chuck Aa
 ron":https://www.southeastwheelsevents.com/profile/ChuckAaron886
END:VEVENT
END:VCALENDAR
