BEGIN:VCALENDAR
PRODID:NingEventWidget-v1
VERSION:2.0
METHOD:PUBLISH
BEGIN:VTIMEZONE
TZID:Pacific/Midway
X-LIC-LOCATION:Pacific/Midway
BEGIN:STANDARD
TZOFFSETFROM:-1100
TZOFFSETTO:-1100
TZNAME:SST
DTSTART:19700101T000000
END:STANDARD
END:VTIMEZONE
BEGIN:VEVENT
UID:5072275:Event:1099529
DTSTAMP:20260420T094329Z
SUMMARY:Cedar Creek Days Cruise In - Greenville, Tn
DESCRIPTION:Cedar Creek Days Cruise In, 90 Cedar Creek School Road. Pa
 rade 9:30AM.\n\nFor more information visit https://www.southeastwheels
 events.com/events/cedar-creek-days-cruise-in-greenville-tn
DTSTART;TZID=Pacific/Midway:20180922T100000
DTEND;TZID=Pacific/Midway:20180922T150000
CATEGORIES:car, show, cruise, in
LOCATION:Greenville, Tn
WEBSITE:http://cedarcreekvfd.com
URL:http://cedarcreekvfd.com
CONTACT:(423) 620-7421
ORGANIZER:Susan Bowers
ATTACH;FMTTYPE="image/jpeg":http://storage.ning.com/topology/rest/1.0/
 file/get/967792821?profile=original
ATTENDEE;ROLE=REQ-PARTICIPANT;PARTSTAT=ACCEPTED;RSVP=TRUE;CN="Anthony 
 Hopkins":https://www.southeastwheelsevents.com/profile/AnthonyHopkins
END:VEVENT
END:VCALENDAR
